BEGIN:VCALENDAR
VERSION:2.0
PRODID:-//Yorkshire Dales Bushcraft - ECPv6.15.20//NONSGML v1.0//EN
CALSCALE:GREGORIAN
METHOD:PUBLISH
X-WR-CALNAME:Yorkshire Dales Bushcraft
X-ORIGINAL-URL:https://yorkshiredalesbushcraft.co.uk
X-WR-CALDESC:Events for Yorkshire Dales Bushcraft
REFRESH-INTERVAL;VALUE=DURATION:PT1H
X-Robots-Tag:noindex
X-PUBLISHED-TTL:PT1H
BEGIN:VTIMEZONE
TZID:UTC
BEGIN:STANDARD
TZOFFSETFROM:+0000
TZOFFSETTO:+0000
TZNAME:UTC
DTSTART:20240101T000000
END:STANDARD
END:VTIMEZONE
BEGIN:VEVENT
DTSTART;VALUE=DATE:20250705
DTEND;VALUE=DATE:20250706
DTSTAMP:20260421T082409
CREATED:20250526T084322Z
LAST-MODIFIED:20250704T133901Z
UID:7735-1751673600-1751759999@yorkshiredalesbushcraft.co.uk
SUMMARY:Bushcraft & Survival challenge - Kilnsey Park
DESCRIPTION:Step Into the Wild… and Put Your Survival Skills to the Ultimate Test! \nAre YOU ready to thrive—not just survive—in the great outdoors? \nGather your crew and head into the wilderness for an unforgettable experience of hands-on survival training\, family fun\, and thrilling challenges. This isn’t just a workshop—it’s a full-blown Bushcraft & Survival Challenge\, and it’s time to see what you’re made of! \n  \nChallenge Zones – Are You Tough Enough? \n️ \nShelter-Building Showdown\nLearn how to build a rainforest shelter using a tarp and hammock system! \nWater Filtration Challenge – Nature’s Way!\nThink you can turn muddy water into something clean enough to drink (well… almost)? In this survival showdown\, you’ll learn how to use only what Mother Nature provides to filter water in the wild. \nFire-Making Face-Off\nHarness the ancient art of fire-lighting using traditional flint and steel. Who will be the first to spark a flame like our Stone Age ancestors? \nCampfire Cooking Quest\nRoll up your sleeves and cook over open flames! Make and bake your own chocolate damper bread from scratch\, then enjoy it warm by the fire! (But theirs a catch) \nBushtucker Challenge\nThink you’ve got guts? Take on the ultimate taste test with our edible bug buffet. Only the brave need apply! \nSession Times \nChoose your wild adventure slot: \n10:00am – 11:30am \n12:00pm – 1:30pm \n2:00pm – 3:30pm \n  \nWhat’s Included \n✅ All 4 interactive challenge zones\n✅ Free parking\n✅ Campfire treat: chocolate damper bread\n✅ Dietary needs? No problem—just let us know in advance! \nIMPORTANT: Please dress for the weather and wear sturdy footwear—terrain may be uneven. \nRules of the Wild (T&Cs)\nAll participants—adults and children—must have a valid ticket. \nChildren must be accompanied by an adult with a valid ticket. \nTickets must be purchased directly through Yorkshire Dales Bushcraft. \nEvents may be cancelled in cases of severe weather for safety reasons; if so\, you’ll receive a credit note to rebook. \nAll tickets are non-refundable.
URL:https://yorkshiredalesbushcraft.co.uk/event/bushcraftkilnsey-park-2/
LOCATION:Kilnsey Park\, Kilnsey\, Skipton BD23 5PS\, Kilnsey Park\, Skipton\, BD23 5PS
ATTACH;FMTTYPE=image/png:https://yorkshiredalesbushcraft.co.uk/wp-content/uploads/2025/03/Untitled-design-4.png
END:VEVENT
BEGIN:VEVENT
DTSTART;VALUE=DATE:20250706
DTEND;VALUE=DATE:20250707
DTSTAMP:20260421T082409
CREATED:20250704T134405Z
LAST-MODIFIED:20250704T134448Z
UID:7829-1751760000-1751846399@yorkshiredalesbushcraft.co.uk
SUMMARY:Bushcraft & Survival challenge – Kilnsey Park
DESCRIPTION:Bushcraft & Survival challenge – Kilnsey Park\n \n\n\n\n  \nStep Into the Wild… and Put Your Survival Skills to the Ultimate Test! \nAre YOU ready to thrive—not just survive—in the great outdoors? \nGather your crew and head into the wilderness for an unforgettable experience of hands-on survival training\, family fun\, and thrilling challenges. This isn’t just a workshop—it’s a full-blown Bushcraft & Survival Challenge\, and it’s time to see what you’re made of! \n  \nChallenge Zones – Are You Tough Enough? \n️ \nShelter-Building Showdown\nLearn how to build a rainforest shelter using a tarp and hammock system! \nWater Filtration Challenge – Nature’s Way!\nThink you can turn muddy water into something clean enough to drink (well… almost)? In this survival showdown\, you’ll learn how to use only what Mother Nature provides to filter water in the wild. \nFire-Making Face-Off\nHarness the ancient art of fire-lighting using traditional flint and steel. Who will be the first to spark a flame like our Stone Age ancestors? \nCampfire Cooking Quest\nRoll up your sleeves and cook over open flames! Make and bake your own chocolate damper bread from scratch\, then enjoy it warm by the fire! (But theirs a catch) \nBushtucker Challenge\nThink you’ve got guts? Take on the ultimate taste test with our edible bug buffet. Only the brave need apply! \nSession Times \nChoose your wild adventure slot: \n10:00am – 11:30am \n12:00pm – 1:30pm \n2:00pm – 3:30pm \n  \nWhat’s Included \n✅ All 4 interactive challenge zones\n✅ Free parking\n✅ Campfire treat: chocolate damper bread\n✅ Dietary needs? No problem—just let us know in advance! \nIMPORTANT: Please dress for the weather and wear sturdy footwear—terrain may be uneven. \nRules of the Wild (T&Cs)\nAll participants—adults and children—must have a valid ticket. \nChildren must be accompanied by an adult with a valid ticket. \nTickets must be purchased directly through Yorkshire Dales Bushcraft. \nEvents may be cancelled in cases of severe weather for safety reasons; if so\, you’ll receive a credit note to rebook. \nAll tickets are non-refundable.
URL:https://yorkshiredalesbushcraft.co.uk/event/7829/
LOCATION:Kilnsey Park\, Kilnsey\, Skipton BD23 5PS\, Kilnsey Park\, Skipton\, BD23 5PS
ATTACH;FMTTYPE=image/png:https://yorkshiredalesbushcraft.co.uk/wp-content/uploads/2025/03/Untitled-design-4.png
ORGANIZER;CN="Yorkshire Dales Bushcraft":MAILTO:hello@yorkshiredalesbushcraft.co.uk
END:VEVENT
BEGIN:VEVENT
DTSTART;VALUE=DATE:20250713
DTEND;VALUE=DATE:20250714
DTSTAMP:20260421T082409
CREATED:20250530T163850Z
LAST-MODIFIED:20250710T121142Z
UID:7747-1752364800-1752451199@yorkshiredalesbushcraft.co.uk
SUMMARY:Bushcraft and survival challenge - Kilnsey Park
DESCRIPTION:Step Into the Wild… and Put Your Survival Skills to the Ultimate Test! \nAre YOU ready to thrive—not just survive—in the great outdoors? \nGather your crew and head into the wilderness for an unforgettable experience of hands-on survival training\, family fun\, and thrilling challenges. This isn’t just a workshop—it’s a full-blown Bushcraft & Survival Challenge\, and it’s time to see what you’re made of! \n  \nChallenge Zones – Are You Tough Enough? \n️ \nShelter-Building Showdown\nLearn how to build a rainforest shelter using a tarp and hammock system! \nWater Filtration Challenge – Nature’s Way!\nThink you can turn muddy water into something clean enough to drink (well… almost)? In this survival showdown\, you’ll learn how to use only what Mother Nature provides to filter water in the wild. \nFire-Making Face-Off\nHarness the ancient art of fire-lighting using traditional flint and steel. Who will be the first to spark a flame like our Stone Age ancestors? \nCampfire Cooking Quest\nRoll up your sleeves and cook over open flames! Make and bake your own chocolate damper bread from scratch\, then enjoy it warm by the fire! (But theirs a catch) \nBushtucker Challenge\nThink you’ve got guts? Take on the ultimate taste test with our edible bug buffet. Only the brave need apply! \nSession Times \nChoose your wild adventure slot: \n10:00am – 11:30am \n12:00pm – 1:30pm \n2:00pm – 3:30pm \n  \nWhat’s Included \n✅ All 4 interactive challenge zones\n✅ Free parking\n✅ Campfire treat: chocolate damper bread\n✅ Dietary needs? No problem—just let us know in advance! \nIMPORTANT: Please dress for the weather and wear sturdy footwear—terrain may be uneven. \nRules of the Wild (T&Cs)\nAll participants—adults and children—must have a valid ticket. \nChildren must be accompanied by an adult with a valid ticket. \nTickets must be purchased directly through Yorkshire Dales Bushcraft. \nEvents may be cancelled in cases of severe weather for safety reasons; if so\, you’ll receive a credit note to rebook. \nAll tickets are non-refundable.
URL:https://yorkshiredalesbushcraft.co.uk/event/bushcraft/
LOCATION:Kilnsey Park\, Kilnsey\, Skipton BD23 5PS\, Kilnsey Park\, Skipton\, BD23 5PS
ATTACH;FMTTYPE=image/png:https://yorkshiredalesbushcraft.co.uk/wp-content/uploads/2025/03/Untitled-design-4.png
ORGANIZER;CN="Yorkshire Dales Bushcraft":MAILTO:hello@yorkshiredalesbushcraft.co.uk
END:VEVENT
BEGIN:VEVENT
DTSTART;TZID=UTC:20250713T100000
DTEND;TZID=UTC:20250713T163000
DTSTAMP:20260421T082409
CREATED:20250526T085308Z
LAST-MODIFIED:20250828T093425Z
UID:7743-1752400800-1752424200@yorkshiredalesbushcraft.co.uk
SUMMARY:Campfire Bakery experience
DESCRIPTION:Campfire Baking Experience at Basecamp\nGift Vouchers Available | As seen on Channel 5’s Winter on the Farm LIVE \n\nJoin us for an unforgettable day of outdoor adventure and culinary creativity in the heart of the Yorkshire Dales. \nSettle in with a steaming mug of hot chocolate as we gather around the campfire for a warm welcome at Basecamp. Under the guidance of our expert instructors and talented wilderness chefs\, you’ll learn to bake a range of irresistible treats – all over an open fire. \nThis immersive\, hands-on experience combines the joy of the great outdoors with the satisfaction of creating delicious\, rustic food from scratch. Perfect for foodies\, nature lovers\, and anyone looking for a unique day out! \n\nWhat’s on the Menu?\nSession 1: Cinnamon & Apple RollsStart your day with soft\, gooey cinnamon and apple rolls – a timeless campfire favourite. Learn essential fire management techniques to ensure perfect bakes every time. \nSession 2: Campfire PizzaRoll up your sleeves and get stuck into crafting your own campfire pizzas. From simple flatbreads to stuffed calzones\, you’ll learn the tricks for creating mouthwatering meals outdoors. \nSession 3: Afternoon Cream TeaWind down with a traditional cream tea in the forest. You’ll bake sweet and savoury scones\, then sit back and savour your creations in the serene woodland setting. \n\nWhy Join Us?\n✅ Expert tuition from experienced outdoor chefs✅ All ingredients and equipment provided✅ Relaxed and friendly group atmosphere✅ Perfect for friends\, families\, and food-loving adventurers✅ Take home your scones to enjoy later \n\nEssential Info:\n\n\nTickets required for all participants \n\n\nUnder-18s must be accompanied by a paying adult \n\n\nIn case of extreme weather\, we may reschedule your booking and issue a credit note for future use \n\n\nPlease note: all bookings are non-refundable \n\n\n\nSpaces are limited – book now or give the gift of adventure with a voucher!Scroll down to the ticket section to book now \n  \n 
URL:https://yorkshiredalesbushcraft.co.uk/event/campfire-bakery-experience-2/
LOCATION:Kilnsey Park\, Kilnsey\, Skipton BD23 5PS\, Kilnsey Park\, Skipton\, BD23 5PS
ATTACH;FMTTYPE=image/png:https://yorkshiredalesbushcraft.co.uk/wp-content/uploads/2025/03/Pizza.png
ORGANIZER;CN="Yorkshire Dales Bushcraft":MAILTO:hello@yorkshiredalesbushcraft.co.uk
END:VEVENT
BEGIN:VEVENT
DTSTART;VALUE=DATE:20250719
DTEND;VALUE=DATE:20250720
DTSTAMP:20260421T082409
CREATED:20250612T094728Z
LAST-MODIFIED:20250718T130241Z
UID:7784-1752883200-1752969599@yorkshiredalesbushcraft.co.uk
SUMMARY:1hr Survival challenge -  At Kilnsey Park
DESCRIPTION:. \nONLY £9 PER PERSON – 1 Hour Bushcraft & Survival Challenge! \nJoin our epic Survival Challenge and learn how to survive — and thrive — in the great outdoors!Get ready for a high-energy\, hands-on family adventure packed with skills\, thrills\, and unforgettable memories! \nWhat’s included? \n✅ Shelter building (tarp & hammock style)✅ Fire-lighting with flint & steel✅ Campfire cooking (make your own chocolate damper bread!)✅ Bushtucker Challenge – dare to taste bugs!✅ Free parking + campfire treat included! \n  \n‍‍ Suitable for adults\, children\, and groups alike — whether you’re a family\, a group of friends\, or a club\, everyone’s welcome! Group bookings are most welcome — (For group bookings) please get in touch in advance so we can plan your session. \nSession Times:10–11am | 11:30–12:30 | 1–2pm | 2:30–3:30 \nEvery participant (kids & adults) needs a ticketSee below for booking options! \n 
URL:https://yorkshiredalesbushcraft.co.uk/event/survival-challenge-kilnsey-park-3/
LOCATION:Kilnsey Park\, Kilnsey\, Skipton BD23 5PS\, Kilnsey Park\, Skipton\, BD23 5PS
ATTACH;FMTTYPE=image/png:https://yorkshiredalesbushcraft.co.uk/wp-content/uploads/2025/03/Untitled-design-4.png
ORGANIZER;CN="Yorkshire Dales Bushcraft":MAILTO:hello@yorkshiredalesbushcraft.co.uk
END:VEVENT
BEGIN:VEVENT
DTSTART;VALUE=DATE:20250723
DTEND;VALUE=DATE:20250724
DTSTAMP:20260421T082409
CREATED:20250715T174945Z
LAST-MODIFIED:20250722T210512Z
UID:7853-1753228800-1753315199@yorkshiredalesbushcraft.co.uk
SUMMARY:1hr Survival challenge - Kilnsey Park
DESCRIPTION:ONLY £9 PER PERSON – 1 Hour Bushcraft & Survival Challenge! \nJoin our epic Survival Challenge and learn how to survive — and thrive — in the great outdoors!Get ready for a high-energy\, hands-on family adventure packed with skills\, thrills\, and unforgettable memories! \nWhat’s included? \n✅ Shelter building (tarp & hammock style)✅ Fire-lighting with flint & steel✅ Campfire cooking (make your own chocolate damper bread!)✅ Bushtucker Challenge – dare to taste bugs!✅ Free parking + campfire treat included! \n  \n‍‍ Suitable for adults\, children\, and groups alike — whether you’re a family\, a group of friends\, or a club\, everyone’s welcome! Group bookings are most welcome — (For group bookings) please get in touch in advance so we can plan your session. \nSession Times:10–11am | 11:30–12:30 | 1–2pm | 2:30–3:30 \nEvery participant (kids & adults) needs a ticketSee below for booking options!
URL:https://yorkshiredalesbushcraft.co.uk/event/challenge-kilnsey-park/
LOCATION:Kilnsey Park\, Kilnsey\, Skipton BD23 5PS\, Kilnsey Park\, Skipton\, BD23 5PS
ATTACH;FMTTYPE=image/png:https://yorkshiredalesbushcraft.co.uk/wp-content/uploads/2025/03/Fire-striker-1-1.png
ORGANIZER;CN="Yorkshire Dales Bushcraft":MAILTO:hello@yorkshiredalesbushcraft.co.uk
END:VEVENT
BEGIN:VEVENT
DTSTART;VALUE=DATE:20250724
DTEND;VALUE=DATE:20250725
DTSTAMP:20260421T082409
CREATED:20250715T175552Z
LAST-MODIFIED:20250723T120835Z
UID:7864-1753315200-1753401599@yorkshiredalesbushcraft.co.uk
SUMMARY:1Hr Survival challenge - Kilnsey Park
DESCRIPTION:ONLY £9 PER PERSON – 1 Hour Bushcraft & Survival Challenge! \nJoin our epic Survival Challenge and learn how to survive — and thrive — in the great outdoors!Get ready for a high-energy\, hands-on family adventure packed with skills\, thrills\, and unforgettable memories! \nWhat’s included? \n✅ Shelter building (tarp & hammock style)✅ Fire-lighting with flint & steel✅ Campfire cooking (make your own chocolate damper bread!)✅ Bushtucker Challenge – dare to taste bugs!✅ Free parking + campfire treat included! \n  \n‍‍ Suitable for adults\, children\, and groups alike — whether you’re a family\, a group of friends\, or a club\, everyone’s welcome! Group bookings are most welcome — (For group bookings) please get in touch in advance so we can plan your session. \nSession Times:10–11am | 11:30–12:30 | 1–2pm | 2:30–3:30 \nEvery participant (kids & adults) needs a ticketSee below for booking options!
URL:https://yorkshiredalesbushcraft.co.uk/event/1hr-survivakilnsey-park/
LOCATION:Kilnsey Park\, Kilnsey\, Skipton BD23 5PS\, Kilnsey Park\, Skipton\, BD23 5PS
ATTACH;FMTTYPE=image/png:https://yorkshiredalesbushcraft.co.uk/wp-content/uploads/2025/03/Untitled-design-4.png
ORGANIZER;CN="Yorkshire Dales Bushcraft":MAILTO:hello@yorkshiredalesbushcraft.co.uk
END:VEVENT
BEGIN:VEVENT
DTSTART;TZID=UTC:20250725T180000
DTEND;TZID=UTC:20250727T113000
DTSTAMP:20260421T082409
CREATED:20250423T083118Z
LAST-MODIFIED:20250725T080910Z
UID:7594-1753466400-1753615800@yorkshiredalesbushcraft.co.uk
SUMMARY:Bushcraft weekend course
DESCRIPTION:Welcome to the Ultimate Bushcraft Weekend Experience!\nWhether you’re a seasoned outdoor enthusiast or stepping into the wild for the first time\, our Bushcraft Weekend is designed to immerse you in the beauty of nature and teach you essential survival skills in the stunning Yorkshire Dales National Park\, close to the picturesque town of Grassington\, North Yorkshire. \n  \nYour Adventure Begins: Friday Evening \nArriving at 6pm on Friday\, you’ll be warmly welcomed by a roaring campfire and the savory aroma of a campfire dinner\, setting the tone for an unforgettable weekend. As dinner cooks\, take a moment to tune into the peaceful surroundings and choose where you’ll sleep for the night. Bring along a small tent or hammock\, or\, if you’re up for a wilder experience\, get ready to build your own shelter on Saturday\, where you can spend a cozy night under the stars. \n  \nSaturday: Learn\, Build\, Thrive \nSaturday kicks off with an introduction to the essential rules of survival\, where our expert instructors will share their knowledge of thriving in a woodland environment. You’ll delve into the art of shelter building\, master ancient fire-crafting techniques\, and develop wilderness cooking skills. As evening approaches\, we’ll journey to a nearby lake to fish for our dinner\, with vegetarian and vegan options thoughtfully provided. The night is spent around the campfire\, enjoying a hearty supper and relaxing beneath the canopy of the trees. \n  \nSunday: Relaxation & water filtration. \nA much slower paced morning\, after enjoying our campfire breakfast\, We’ll  look at different methods for collecting safe drinking water in the wild—an invaluable skill for any adventurer. We wrap up our weekend just before lunchtime\, leaving you with unforgettable memories and new bushcraft skills. \n  \nJoin us for a weekend of adventure\, learning\, and connection with nature! “The more knowledge you carry\, the less equipment you’ll need” \n\n\n\n\n\n\n\n \n\n\n\nWhat’s included? \n\nAll meals – Breakfast\, lunch and dinner\nDrinks – Tea\, coffee and soft drinks are available throughout the weekends\nWorkshops – Please see our list of workshops below. \nOn site parking\n\nA list of workshops included in your weekend.\n\nPrimitive and advanced Firecraft skills.\nBasic foraging skills.\nWilderness Baking – Breads and sweet treats.\nWilderness cookery – The Canadian Fish Flag.\nShelter making – Advanced and primitive shelter making skills. \nWoodland crafting – Useful tools\, knot tying etc. \nWater collecting and filtering techniques.\nEssential Knots & Lines.\n\n  \n \n  \n  \nSleeping under the stars\nOn the Bushcraft weekend you can choose to sleep under a Bushcraft tarp (Military style) in a hammock\, build your very own Bushcraft shelter or feel free to bring your own SMALL tent. If its your first time camping that’s amazing too\, our experienced guides will be on hand to help you every step of the way.  \n**Please don’t bring huge family tents\, we don’t have enough space. \n  \n \n  \nToilets & showers \nWe have an onsite toilet block which is around a 6 minute walk from the woodland. We have a solar shower installed in the trees for your comfort. For ease\, we always advise you to carry some baby wipes for your comfort. The toilet block is open 24hrs and has hot running water.  \n  \n \nFAQ’S\nI’m a Solo traveler\, can I attend?  Of course\, a lot of our attendees are solo travelers. It’s a great way to meet new people.  \n  \nI have a disability\, can I attend?  Of course\, our team will be on hand to make your experience as comfortable as possible. If you require accommodation locally\, our reservations team would be happy to organize this for you. Our support vehicle will be on hand for drop off and pick up at each workshop location. The terrain around basecamp is a little uneven\, but we do have some good access points.  \n  \nI have specific dietary needs\, is this going to be ok? Sure. Just let us know at the time of booking\, and we will make sure your are looked after.  \n  \nI have never done anything like this before do I need experience? Absolutely NOT. Everyone is welcome around the campfire. Its an opportunity to get together\, learn ew skills and enjoy reconnecting with the great outdoors. Our highly experienced staff will be on hand to guide you through\, every step of the way.  \n  \nOver 18’s only. All dietary needs can be catered for. Just let us know at the time of booking.\n  \n**Terms & conditions – Please read before you book. DEPOSIT – This is a NON refundable deposit. Remaining balance: payments are due 4 weeks before the start date of the event. Inclement weather: On the grounds of health & safety\, YDB reserves the right to cancel at short notice if bad extreme weather is forecasted. In the event of this happening\, guests would be given a credit note and the option to book on to the next course at a date that suits them. 
URL:https://yorkshiredalesbushcraft.co.uk/event/bushcraft-weekend-course-4/
LOCATION:Kilnsey Park\, Kilnsey\, Skipton BD23 5PS\, Kilnsey Park\, Skipton\, BD23 5PS
CATEGORIES:Adult Experience Days
ATTACH;FMTTYPE=image/png:https://yorkshiredalesbushcraft.co.uk/wp-content/uploads/2025/03/Fish-flag.png
ORGANIZER;CN="Yorkshire Dales Bushcraft":MAILTO:hello@yorkshiredalesbushcraft.co.uk
END:VEVENT
BEGIN:VEVENT
DTSTART;VALUE=DATE:20250727
DTEND;VALUE=DATE:20250728
DTSTAMP:20260421T082409
CREATED:20250715T180305Z
LAST-MODIFIED:20250727T083751Z
UID:7874-1753574400-1753660799@yorkshiredalesbushcraft.co.uk
SUMMARY:1 Hr Survival challenge - Kilnsey Park
DESCRIPTION:ONLY £9 PER PERSON – 1 Hour Bushcraft & Survival Challenge! \nJoin our epic Survival Challenge and learn how to survive — and thrive — in the great outdoors!Get ready for a high-energy\, hands-on family adventure packed with skills\, thrills\, and unforgettable memories! \nWhat’s included? \n✅ Shelter building (tarp & hammock style)✅ Fire-lighting with flint & steel✅ Campfire cooking (make your own chocolate damper bread!)✅ Bushtucker Challenge – dare to taste bugs!✅ Free parking + campfire treat included! \n  \n‍‍ Suitable for adults\, children\, and groups alike — whether you’re a family\, a group of friends\, or a club\, everyone’s welcome! Group bookings are most welcome — (For group bookings) please get in touch in advance so we can plan your session. \nSession Times:10–11am | 11:30–12:30 | 1–2pm | 2:30–3:30 \nEvery participant (kids & adults) needs a ticketSee below for booking options!
URL:https://yorkshiredalesbushcraft.co.uk/event/1-hr-survivalkilnsey-park/
LOCATION:Kilnsey Park\, Kilnsey\, Skipton BD23 5PS\, Kilnsey Park\, Skipton\, BD23 5PS
ATTACH;FMTTYPE=image/png:https://yorkshiredalesbushcraft.co.uk/wp-content/uploads/2025/03/Untitled-design-4.png
ORGANIZER;CN="Yorkshire Dales Bushcraft":MAILTO:hello@yorkshiredalesbushcraft.co.uk
END:VEVENT
END:VCALENDAR