BEGIN:VCALENDAR
VERSION:2.0
PRODID:-//Yorkshire Dales Bushcraft - ECPv6.15.20//NONSGML v1.0//EN
CALSCALE:GREGORIAN
METHOD:PUBLISH
X-ORIGINAL-URL:https://yorkshiredalesbushcraft.co.uk
X-WR-CALDESC:Events for Yorkshire Dales Bushcraft
REFRESH-INTERVAL;VALUE=DURATION:PT1H
X-Robots-Tag:noindex
X-PUBLISHED-TTL:PT1H
BEGIN:VTIMEZONE
TZID:UTC
BEGIN:STANDARD
TZOFFSETFROM:+0000
TZOFFSETTO:+0000
TZNAME:UTC
DTSTART:20240101T000000
END:STANDARD
END:VTIMEZONE
BEGIN:VEVENT
DTSTART;VALUE=DATE:20250607
DTEND;VALUE=DATE:20250608
DTSTAMP:20260421T100130
CREATED:20250604T090545Z
LAST-MODIFIED:20250604T090908Z
UID:7770-1749254400-1749340799@yorkshiredalesbushcraft.co.uk
SUMMARY:Bushcraft & survival challenge - Kilnsey Park
DESCRIPTION:Step Into the Wild… and Put Your Survival Skills to the Ultimate Test! \nAre YOU ready to thrive—not just survive—in the great outdoors? \nGather your crew and head into the wilderness for an unforgettable experience of hands-on survival training\, family fun\, and thrilling challenges. This isn’t just a workshop—it’s a full-blown Bushcraft & Survival Challenge\, and it’s time to see what you’re made of! \n  \nChallenge Zones – Are You Tough Enough? \n️ \nShelter-Building Showdown\nLearn how to build a rainforest shelter using a tarp and hammock system!  \nWater Filtration Challenge – Nature’s Way!\nThink you can turn muddy water into something clean enough to drink (well… almost)? In this survival showdown\, you’ll learn how to use only what Mother Nature provides to filter water in the wild. \nFire-Making Face-Off\nHarness the ancient art of fire-lighting using traditional flint and steel. Who will be the first to spark a flame like our Stone Age ancestors? \nCampfire Cooking Quest\nRoll up your sleeves and cook over open flames! Make and bake your own chocolate damper bread from scratch\, then enjoy it warm by the fire! (But theirs a catch) \nBushtucker Challenge\nThink you’ve got guts? Take on the ultimate taste test with our edible bug buffet. Only the brave need apply! \nSession Times \nChoose your wild adventure slot: \n10:00am – 11:30am \n12:00pm – 1:30pm \n2:00pm – 3:30pm \n  \nWhat’s Included \n✅ All 4 interactive challenge zones\n✅ Free parking\n✅ Campfire treat: chocolate damper bread\n✅ Dietary needs? No problem—just let us know in advance! \nIMPORTANT: Please dress for the weather and wear sturdy footwear—terrain may be uneven. \nRules of the Wild (T&Cs)\nAll participants—adults and children—must have a valid ticket. \nChildren must be accompanied by an adult with a valid ticket. \nTickets must be purchased directly through Yorkshire Dales Bushcraft. \nEvents may be cancelled in cases of severe weather for safety reasons; if so\, you’ll receive a credit note to rebook. \nAll tickets are non-refundable.
URL:https://yorkshiredalesbushcraft.co.uk/event/bushcraftkilnsey-park-3/
LOCATION:Kilnsey Park\, Kilnsey\, Skipton BD23 5PS\, Kilnsey Park\, Skipton\, BD23 5PS
ATTACH;FMTTYPE=image/png:https://yorkshiredalesbushcraft.co.uk/wp-content/uploads/2025/03/Untitled-design-4.png
ORGANIZER;CN="Yorkshire Dales Bushcraft":MAILTO:hello@yorkshiredalesbushcraft.co.uk
END:VEVENT
BEGIN:VEVENT
DTSTART;VALUE=DATE:20250608
DTEND;VALUE=DATE:20250609
DTSTAMP:20260421T100130
CREATED:20250604T085838Z
LAST-MODIFIED:20250604T090751Z
UID:7762-1749340800-1749427199@yorkshiredalesbushcraft.co.uk
SUMMARY:Survival challenge - Kilnsey Park
DESCRIPTION:Step Into the Wild… and Put Your Survival Skills to the Ultimate Test! \nAre YOU ready to thrive—not just survive—in the great outdoors? \nGather your crew and head into the wilderness for an unforgettable experience of hands-on survival training\, family fun\, and thrilling challenges. This isn’t just a workshop—it’s a full-blown Bushcraft & Survival Challenge\, and it’s time to see what you’re made of! \n  \nChallenge Zones – Are You Tough Enough? \n️ \nShelter-Building Showdown\nLearn how to build a rainforest shelter using a tarp and hammock system!  \nWater Filtration Challenge – Nature’s Way!\nThink you can turn muddy water into something clean enough to drink (well… almost)? In this survival showdown\, you’ll learn how to use only what Mother Nature provides to filter water in the wild. \nFire-Making Face-Off\nHarness the ancient art of fire-lighting using traditional flint and steel. Who will be the first to spark a flame like our Stone Age ancestors? \nCampfire Cooking Quest\nRoll up your sleeves and cook over open flames! Make and bake your own chocolate damper bread from scratch\, then enjoy it warm by the fire! (But theirs a catch) \nBushtucker Challenge\nThink you’ve got guts? Take on the ultimate taste test with our edible bug buffet. Only the brave need apply! \nSession Times \nChoose your wild adventure slot: \n10:00am – 11:30am \n12:00pm – 1:30pm \n2:00pm – 3:30pm \n  \nWhat’s Included \n✅ All 4 interactive challenge zones\n✅ Free parking\n✅ Campfire treat: chocolate damper bread\n✅ Dietary needs? No problem—just let us know in advance! \nIMPORTANT: Please dress for the weather and wear sturdy footwear—terrain may be uneven. \nRules of the Wild (T&Cs)\nAll participants—adults and children—must have a valid ticket. \nChildren must be accompanied by an adult with a valid ticket. \nTickets must be purchased directly through Yorkshire Dales Bushcraft. \nEvents may be cancelled in cases of severe weather for safety reasons; if so\, you’ll receive a credit note to rebook. \nAll tickets are non-refundable.
URL:https://yorkshiredalesbushcraft.co.uk/event/survival-challenge-kilnsey-park-2/
LOCATION:Kilnsey Park\, Kilnsey\, Skipton BD23 5PS\, Kilnsey Park\, Skipton\, BD23 5PS
ATTACH;FMTTYPE=image/png:https://yorkshiredalesbushcraft.co.uk/wp-content/uploads/2025/03/Untitled-design-4.png
ORGANIZER;CN="Yorkshire Dales Bushcraft":MAILTO:hello@yorkshiredalesbushcraft.co.uk
END:VEVENT
BEGIN:VEVENT
DTSTART;VALUE=DATE:20250615
DTEND;VALUE=DATE:20250616
DTSTAMP:20260421T100130
CREATED:20250612T095338Z
LAST-MODIFIED:20250612T095905Z
UID:7794-1749945600-1750031999@yorkshiredalesbushcraft.co.uk
SUMMARY:Survival challenge -Kilnsey park
DESCRIPTION:Step Into the Wild… and Put Your Survival Skills to the Ultimate Test! \nAre YOU ready to thrive—not just survive—in the great outdoors? \nGather your crew and head into the wilderness for an unforgettable experience of hands-on survival training\, family fun\, and thrilling challenges. This isn’t just a workshop—it’s a full-blown Bushcraft & Survival Challenge\, and it’s time to see what you’re made of! \n  \nChallenge Zones – Are You Tough Enough? \n️ \nShelter-Building Showdown\nLearn how to build a rainforest shelter using a tarp and hammock system!  \nWater Filtration Challenge – Nature’s Way!\nThink you can turn muddy water into something clean enough to drink (well… almost)? In this survival showdown\, you’ll learn how to use only what Mother Nature provides to filter water in the wild. \nFire-Making Face-Off\nHarness the ancient art of fire-lighting using traditional flint and steel. Who will be the first to spark a flame like our Stone Age ancestors? \nCampfire Cooking Quest\nRoll up your sleeves and cook over open flames! Make and bake your own chocolate damper bread from scratch\, then enjoy it warm by the fire! (But theirs a catch) \nBushtucker Challenge\nThink you’ve got guts? Take on the ultimate taste test with our edible bug buffet. Only the brave need apply! \nSession Times \nChoose your wild adventure slot: \n10:00am – 11:30am \n12:00pm – 1:30pm \n2:00pm – 3:30pm \n  \nWhat’s Included \n✅ All 4 interactive challenge zones\n✅ Free parking\n✅ Campfire treat: chocolate damper bread\n✅ Dietary needs? No problem—just let us know in advance! \nIMPORTANT: Please dress for the weather and wear sturdy footwear—terrain may be uneven. \nRules of the Wild (T&Cs)\nAll participants—adults and children—must have a valid ticket. \nChildren must be accompanied by an adult with a valid ticket. \nTickets must be purchased directly through Yorkshire Dales Bushcraft. \nEvents may be cancelled in cases of severe weather for safety reasons; if so\, you’ll receive a credit note to rebook. \nAll tickets are non-refundable.
URL:https://yorkshiredalesbushcraft.co.uk/event/survival-challenge-kilnsey-park-4/
LOCATION:Kilnsey Park\, Kilnsey\, Skipton BD23 5PS\, Kilnsey Park\, Skipton\, BD23 5PS
ATTACH;FMTTYPE=image/png:https://yorkshiredalesbushcraft.co.uk/wp-content/uploads/2025/03/Untitled-design-4.png
ORGANIZER;CN="Yorkshire Dales Bushcraft":MAILTO:hello@yorkshiredalesbushcraft.co.uk
END:VEVENT
BEGIN:VEVENT
DTSTART;TZID=UTC:20250620T110000
DTEND;TZID=UTC:20250623T190000
DTSTAMP:20260421T100130
CREATED:20240403T100448Z
LAST-MODIFIED:20250206T092918Z
UID:6521-1750417200-1750705200@yorkshiredalesbushcraft.co.uk
SUMMARY:Isle of Rum 2025 Expedition
DESCRIPTION:      \nYou don’t need any previous experience to join our expedition \n  \n        \n  \nFriday Morning Your journey begins in the charming port town of Mallaig\, about an hour west of Fort William. We’ll set sail just after lunch\, arriving on the island around 2:30 pm. Once ashore\, we’ll make our way to our wild camping site along the scenic shores of Loch Scresort. After setting up camp\, we’ll dive straight into the essentials\, connecting with our natural surroundings and learning the key skills that will guide us through our first night on Rum. \n  \nSaturday is packed with hands-on workshops\, where you’ll learn vital survival skills—from building shelters and making fires to cooking and baking in the wilderness. As the tide recedes\, we’ll head down to the golden sands to forage and fish.   In the evening\, choose to further explore the island’s rugged beauty\, join our health and wellbeing workshops or head off on an  evening fishing excursion to cap off an exciting day. \n  \nOn Sunday\, we’ll venture into the island’s village\, marveling at Rum’s stunning wildlife. With a bit of luck\, we may spot deer\, eagles\, sharks\, and even Minke whales! Back at camp\, we’ll refine our cooking techniques before heading to the Isle of Rum Bunkhouse\, where comfort awaits for our final night. We’ll celebrate together with a hearty dinner and drinks\, savoring the day’s experiences. \n  \nMonday brings a leisurely start as we check out and enjoy some free time and last moments exploring the island’s wild beauty. We’ll meet back at the ferry terminal around 3 pm for our journey home\, arriving in Mallaig by 7 pm\, carrying unforgettable memories of our coastal adventure. \n \n  \nTimings for your long weekend break\n\n11am Friday – 7pm Monday \nWe meet at the Port of Mallaig for 11am\, grab a coffee whilst we introduce ourselves and give you a welcome brief. The ship departs at 1250pm\, arriving on to Rum for around 230pm. On Monday\, we arrive back on the mainland for 7pm. Our highly experienced staff will be on hand to guide you every step of the way.  The Bushcraft team will arrive in the Mallaig area the night before. If you need any suggestions on places to stay the night before \, we are happy to help out. For guests stopping in the area on the Thursday evening we will arrange to meet for a welcome drink in one of the local pubs.  \n  \nBushcraft Workshops\n\nShelter making\nCoastal foraging \nWilderness cookery skills \nFreshwater and seawater fishing Skills \nCampfire bakery \nFire making skills \nGuided Wildlife and foraging walks \nKnots\, knife skills and water purification\nWildlife spotting\nHealth and well-being workshops\nNatural product making workshops\nGuided meditation and mindfulness\n\n  \n \n  \nKit List \n\nSleeping bag\nTent\nSleeping mat\nWarm and waterproof clothing\nGood sturdy footwear. Walking boots\nSwim wear\nPersonal first Aid kit\nCup\, bowl and spoon\nCamping chair\nWater bottle \nSun hat\nMidge net\nMidge spray\n\n  \n \n  \nYour accommodation \nThe first 2 nights will be spent under canvas(In your own tent) On the edges of the Loch Scresort. A stunning ocean side location\, which ends itself to being a perfect fishing location. . On Sunday night we will spend the evening in the Isle of Rum Bunkhouse\, where you will enjoy all mod cons you would expect from a bunkhouse.  \n  \n \n  \nWhat’s included\n\nReturn Ferry travel from Mallaig – Rum.\nAll food and drinks (Whilst on the Island) \nAccess to all Bushcraft workshops\nAccess to all fishing excursions\nAccess to all of our health and wellbeing workshops\n\n  \n   \n  \nTerms & Conditions: \n\nAll deposits are non-refundable.\nFull payment of any outstanding balance must be received no later than six weeks prior to expedition departure.\nBy booking this expedition\, you acknowledge that extreme weather conditions may result in a cancellation. Should this occur\, YDB will issue each guest a credit note for the next available date.\nPlease inform us of any medical or dietary requirements at the time of booking to ensure the best experience possible.\n\nFAQ’S\nQ – Do I need experience to join the expedition?  – No experience is required. Every year we have a number of guests who are experiencing camping for the first time. Our highly trained team will be on hand all weekend to guide you every step of the way.  \nQ – I have a disability\, can I join?  – Absolutely. Our team will do all they can to ensure you have a comfortable stay and get the most out of your weekend with us. Just let our reservations team know what we can do to support you.  \nQ – I have dietary requirements\, would I still be ok to join? – Of course\, we have a varied menu on offer throughout the whole weekend. Just let our reservations team know your requirements at the time of booking. \n  \n  \n 
URL:https://yorkshiredalesbushcraft.co.uk/event/isle-of-rum-2025-expedition/
LOCATION:Island of Rum\, Isle of Rum\, PH43 4RR\, United Kingdom
ATTACH;FMTTYPE=image/jpeg:https://yorkshiredalesbushcraft.co.uk/wp-content/uploads/2023/06/3.jpg
ORGANIZER;CN="Yorkshire Dales Bushcraft":MAILTO:hello@yorkshiredalesbushcraft.co.uk
END:VEVENT
BEGIN:VEVENT
DTSTART;VALUE=DATE:20250628
DTEND;VALUE=DATE:20250629
DTSTAMP:20260421T100130
CREATED:20250503T100148Z
LAST-MODIFIED:20250627T072333Z
UID:7651-1751068800-1751155199@yorkshiredalesbushcraft.co.uk
SUMMARY:Bushcraft & Survival challenge
DESCRIPTION: \n\n\n \n\nStep Into the Wild… and Put Your Survival Skills to the Ultimate Test! \nAre YOU ready to thrive—not just survive—in the great outdoors? \nGather your crew and head into the wilderness for an unforgettable experience of hands-on survival training\, family fun\, and thrilling challenges. This isn’t just a workshop—it’s a full-blown Bushcraft & Survival Challenge\, and it’s time to see what you’re made of! \n  \nChallenge Zones – Are You Tough Enough? \n️ \nShelter-Building Showdown\nLearn how to build a rainforest shelter using a tarp and hammock system!  \nWater Filtration Challenge – Nature’s Way!\nThink you can turn muddy water into something clean enough to drink (well… almost)? In this survival showdown\, you’ll learn how to use only what Mother Nature provides to filter water in the wild. \nFire-Making Face-Off\nHarness the ancient art of fire-lighting using traditional flint and steel. Who will be the first to spark a flame like our Stone Age ancestors? \nCampfire Cooking Quest\nRoll up your sleeves and cook over open flames! Make and bake your own chocolate damper bread from scratch\, then enjoy it warm by the fire! (But theirs a catch) \nBushtucker Challenge\nThink you’ve got guts? Take on the ultimate taste test with our edible bug buffet. Only the brave need apply! \nSession Times \nChoose your wild adventure slot: \n10:00am – 11:30am \n12:00pm – 1:30pm \n2:00pm – 3:30pm \n  \nWhat’s Included \n✅ All 4 interactive challenge zones\n✅ Free parking\n✅ Campfire treat: chocolate damper bread\n✅ Dietary needs? No problem—just let us know in advance! \nIMPORTANT: Please dress for the weather and wear sturdy footwear—terrain may be uneven. \nRules of the Wild (T&Cs)\nAll participants—adults and children—must have a valid ticket. \nChildren must be accompanied by an adult with a valid ticket. \nTickets must be purchased directly through Yorkshire Dales Bushcraft. \nEvents may be cancelled in cases of severe weather for safety reasons; if so\, you’ll receive a credit note to rebook. \nAll tickets are non-refundable.
URL:https://yorkshiredalesbushcraft.co.uk/event/bushcraft-survival-challenge-2/
LOCATION:Kilnsey Park\, Kilnsey\, Skipton BD23 5PS\, Kilnsey Park\, Skipton\, BD23 5PS
ATTACH;FMTTYPE=image/png:https://yorkshiredalesbushcraft.co.uk/wp-content/uploads/2025/03/Untitled-design-4.png
ORGANIZER;CN="Yorkshire Dales Bushcraft":MAILTO:hello@yorkshiredalesbushcraft.co.uk
END:VEVENT
BEGIN:VEVENT
DTSTART;VALUE=DATE:20250629
DTEND;VALUE=DATE:20250630
DTSTAMP:20260421T100130
CREATED:20250627T072831Z
LAST-MODIFIED:20250627T072832Z
UID:7809-1751155200-1751241599@yorkshiredalesbushcraft.co.uk
SUMMARY:Survival skills challenge
DESCRIPTION:Step Into the Wild… and Put Your Survival Skills to the Ultimate Test! \nAre YOU ready to thrive—not just survive—in the great outdoors? \nGather your crew and head into the wilderness for an unforgettable experience of hands-on survival training\, family fun\, and thrilling challenges. This isn’t just a workshop—it’s a full-blown Bushcraft & Survival Challenge\, and it’s time to see what you’re made of! \n  \nChallenge Zones – Are You Tough Enough? \n️ \nShelter-Building Showdown\nLearn how to build a rainforest shelter using a tarp and hammock system!  \nWater Filtration Challenge – Nature’s Way!\nThink you can turn muddy water into something clean enough to drink (well… almost)? In this survival showdown\, you’ll learn how to use only what Mother Nature provides to filter water in the wild. \nFire-Making Face-Off\nHarness the ancient art of fire-lighting using traditional flint and steel. Who will be the first to spark a flame like our Stone Age ancestors? \nCampfire Cooking Quest\nRoll up your sleeves and cook over open flames! Make and bake your own chocolate damper bread from scratch\, then enjoy it warm by the fire! (But theirs a catch) \nBushtucker Challenge\nThink you’ve got guts? Take on the ultimate taste test with our edible bug buffet. Only the brave need apply! \nSession Times \nChoose your wild adventure slot: \n10:00am – 11:30am \n12:00pm – 1:30pm \n2:00pm – 3:30pm \n  \nWhat’s Included \n✅ All 4 interactive challenge zones\n✅ Free parking\n✅ Campfire treat: chocolate damper bread\n✅ Dietary needs? No problem—just let us know in advance! \nIMPORTANT: Please dress for the weather and wear sturdy footwear—terrain may be uneven. \nRules of the Wild (T&Cs)\nAll participants—adults and children—must have a valid ticket. \nChildren must be accompanied by an adult with a valid ticket. \nTickets must be purchased directly through Yorkshire Dales Bushcraft. \nEvents may be cancelled in cases of severe weather for safety reasons; if so\, you’ll receive a credit note to rebook. \nAll tickets are non-refundable
URL:https://yorkshiredalesbushcraft.co.uk/event/survival-skills-challenge-2/
LOCATION:Kilnsey Park\, Kilnsey\, Skipton BD23 5PS\, Kilnsey Park\, Skipton\, BD23 5PS
ATTACH;FMTTYPE=image/png:https://yorkshiredalesbushcraft.co.uk/wp-content/uploads/2025/03/Untitled-design-4.png
ORGANIZER;CN="Yorkshire Dales Bushcraft":MAILTO:hello@yorkshiredalesbushcraft.co.uk
END:VEVENT
END:VCALENDAR