BEGIN:VCALENDAR
VERSION:2.0
PRODID:-//Yorkshire Dales Bushcraft - ECPv6.15.20//NONSGML v1.0//EN
CALSCALE:GREGORIAN
METHOD:PUBLISH
X-WR-CALNAME:Yorkshire Dales Bushcraft
X-ORIGINAL-URL:https://yorkshiredalesbushcraft.co.uk
X-WR-CALDESC:Events for Yorkshire Dales Bushcraft
REFRESH-INTERVAL;VALUE=DURATION:PT1H
X-Robots-Tag:noindex
X-PUBLISHED-TTL:PT1H
BEGIN:VTIMEZONE
TZID:UTC
BEGIN:STANDARD
TZOFFSETFROM:+0000
TZOFFSETTO:+0000
TZNAME:UTC
DTSTART:20240101T000000
END:STANDARD
END:VTIMEZONE
BEGIN:VEVENT
DTSTART;VALUE=DATE:20250409
DTEND;VALUE=DATE:20250410
DTSTAMP:20260423T100529
CREATED:20250227T143749Z
LAST-MODIFIED:20250401T093207Z
UID:7342-1744156800-1744243199@yorkshiredalesbushcraft.co.uk
SUMMARY:Family Bushcraft & Survival experience!
DESCRIPTION:2Step Into the Wild and Put Your Survival Skills to the Ultimate Test! \nAre you ready to thrive—not just survive—in the great outdoors? Join us for an unforgettable Bushcraft & survival adventure\, where you’ll master essential bushcraft skills and tackle exciting challenges! \nAn action-packed experience designed for the whole family to enjoy! \nYour workshops\nShelter-Building Challenge :   Can you construct a sturdy\, weatherproof shelter using only natural materials? Put your survival instincts to the test! \nFire-Making Challenge : Master the ancient skill of fire-lighting with flint and steel. Do you have what it takes to spark a flame like our Stone Age ancestors \nCampfire Cooking: Get hands-on with outdoor cooking as you prepare and bake your very own delicious campfire pizzas! \nBushtucker Challenge: Dare to expand your taste buds? Sample a variety of edible bugs in this ultimate test of courage! \n  \nWe have 2 sessions running throughout the day for you to choose from\n\n10am – 1pm \n130pm – 430pm\n\nWhat’s included\nAll workshops listed above\, free parking and campfire-cooked pizza lunch\, along with refreshing drinks and marshmallows to toast over the fire. We’re happy to accommodate dietary requirements—just let us know in advance! Please Dress for the weather\, good sturdy footwear is advised as the ground will be uneven. \n  \nPlease Read – Terms & Conditions \nAll guests\, including both adults and children\, must have a valid ticket to attend. All children MUST be accompanied by an adult with a valid ticket. Tickets must be purchased directly from us\, as we do not sell through third-party organisations. In the event of bad weather\, Yorkshire Dales Bushcraft reserves the right to cancel an event for health and safety reasons. If this occurs\, a credit note will be issued for all purchased tickets\, allowing you to rebook on a future date. Please note: All tickets are non-refundable. \n 
URL:https://yorkshiredalesbushcraft.co.uk/event/family-bushcraft-survival/
LOCATION:Kilnsey Park\, Kilnsey\, Skipton BD23 5PS\, Kilnsey Park\, Skipton\, BD23 5PS
ATTACH;FMTTYPE=image/png:https://yorkshiredalesbushcraft.co.uk/wp-content/uploads/2025/02/Untitled-design-21.png
ORGANIZER;CN="Yorkshire Dales Bushcraft":MAILTO:hello@yorkshiredalesbushcraft.co.uk
END:VEVENT
BEGIN:VEVENT
DTSTART;VALUE=DATE:20250411
DTEND;VALUE=DATE:20250412
DTSTAMP:20260423T100529
CREATED:20250227T162600Z
LAST-MODIFIED:20250411T094949Z
UID:7387-1744329600-1744415999@yorkshiredalesbushcraft.co.uk
SUMMARY:Family Bushcraft & Survival Experience
DESCRIPTION:  \nStep Into the Wild and Put Your Survival Skills to the Ultimate Test! \nAre you ready to thrive—not just survive—in the great outdoors? Join us for an unforgettable Bushcraft & survival adventure\, where you’ll master essential bushcraft skills and tackle exciting challenges! \nAn action-packed experience designed for the whole family to enjoy! \nYour workshops\nShelter-Building Challenge :   Can you construct a sturdy\, weatherproof shelter using only natural materials? Put your survival instincts to the test! \nFire-Making Challenge : Master the ancient skill of fire-lighting with flint and steel. Do you have what it takes to spark a flame like our Stone Age ancestors \nCampfire Cooking: Get hands-on with outdoor cooking as you prepare and bake your very own delicious campfire pizzas! \nBushtucker Challenge: Dare to expand your taste buds? Sample a variety of edible bugs in this ultimate test of courage! \n  \nWe have afternoon sessions running  for you to choose from;\n130pm & 3pm Both sessions are 1hr 15 mins \n  \nWhat’s included\nAll workshops listed above\, free parking and campfire-cooked pizza lunch\, along with refreshing drinks and marshmallows to toast over the fire. We’re happy to accommodate dietary requirements—just let us know in advance! Please Dress for the weather\, good sturdy footwear is advised as the ground will be uneven. \n  \nPlease Read – Terms & Conditions \nAll guests\, including both adults and children\, must have a valid ticket to attend. All children MUST be accompanied by an adult with a valid ticket. Tickets must be purchased directly from us\, as we do not sell through third-party organisations. In the event of bad weather\, Yorkshire Dales Bushcraft reserves the right to cancel an event for health and safety reasons. If this occurs\, a credit note will be issued for all purchased tickets\, allowing you to rebook on a future date. Please note: All tickets are non-refundable.
URL:https://yorkshiredalesbushcraft.co.uk/event/family-bushcraft-survival-experience/
LOCATION:Kilnsey Park\, Kilnsey\, Skipton BD23 5PS\, Kilnsey Park\, Skipton\, BD23 5PS
ATTACH;FMTTYPE=image/png:https://yorkshiredalesbushcraft.co.uk/wp-content/uploads/2025/02/Untitled-design-20.png
ORGANIZER;CN="Yorkshire Dales Bushcraft":MAILTO:hello@yorkshiredalesbushcraft.co.uk
END:VEVENT
BEGIN:VEVENT
DTSTART;VALUE=DATE:20250413
DTEND;VALUE=DATE:20250414
DTSTAMP:20260423T100529
CREATED:20250324T123802Z
LAST-MODIFIED:20250412T193100Z
UID:7433-1744502400-1744588799@yorkshiredalesbushcraft.co.uk
SUMMARY:Bushcraft & survival experiences - Kilnsey Park
DESCRIPTION:Step Into the Wild and Put Your Survival Skills to the Ultimate Test! \nAre you ready to thrive—not just survive—in the great outdoors? Join us for an unforgettable Bushcraft & survival adventure\, where you’ll master essential bushcraft skills and tackle exciting challenges! \nAn action-packed experience designed for the whole family to enjoy! \nYour workshops\nShelter-Building Challenge :  Learn how to make rainforest shelter!  \n Fire-Making Challenge : Master the ancient skill of fire-lighting with flint and steel. Do you have what it takes to spark a flame like our Stone Age ancestors \nCampfire Cooking: Get hands-on with outdoor cooking as you prepare and bake your very own delicious campfire chocolate damper bread \nBushtucker Challenge: Dare to expand your taste buds? Sample a variety of edible bugs in this ultimate test of courage! \n  \nWe have a number of sessions running throughout the day for you to choose from\n\n10am – 11:30am\n12pm – 130pm\n2pm – 330pm\n\nWhat’s included\nAll workshops listed above\, free parking and campfire – chocolate damper bread\, along with marshmallows to toast over the fire. We’re happy to accommodate dietary requirements—just let us know in advance! Please Dress for the weather\, good sturdy footwear is advised as the ground will be uneven. \n  \nPlease Read – Terms & Conditions \nAll guests\, including both adults and children\, must have a valid ticket to attend. All children MUST be accompanied by an adult with a valid ticket. Tickets must be purchased directly from us\, as we do not sell through third-party organisations. In the event of bad weather\, Yorkshire Dales Bushcraft reserves the right to cancel an event for health and safety reasons. If this occurs\, a credit note will be issued for all purchased tickets\, allowing you to rebook on a future date. Please note: All tickets are non-refundable.
URL:https://yorkshiredalesbushcraft.co.uk/event/kilnsey-park-bushcraftexperience/
LOCATION:Kilnsey Park\, Kilnsey\, Skipton BD23 5PS\, Kilnsey Park\, Skipton\, BD23 5PS
ATTACH;FMTTYPE=image/png:https://yorkshiredalesbushcraft.co.uk/wp-content/uploads/2025/02/Untitled-design-19.png
ORGANIZER;CN="Yorkshire Dales Bushcraft":MAILTO:hello@yorkshiredalesbushcraft.co.uk
END:VEVENT
BEGIN:VEVENT
DTSTART;VALUE=DATE:20250418
DTEND;VALUE=DATE:20250419
DTSTAMP:20260423T100529
CREATED:20250324T132451Z
LAST-MODIFIED:20250417T092211Z
UID:7452-1744934400-1745020799@yorkshiredalesbushcraft.co.uk
SUMMARY:The Ultimate Bushcraft & Survival Challenge!
DESCRIPTION:Step Into the Wild… and Put Your Survival Skills to the Ultimate Test! \nAre YOU ready to thrive—not just survive—in the great outdoors? \nGather your crew and head into the wilderness for an unforgettable experience of hands-on survival training\, family fun\, and thrilling challenges. This isn’t just a workshop—it’s a full-blown Bushcraft & Survival Challenge\, and it’s time to see what you’re made of! \n  \nChallenge Zones – Are You Tough Enough? \n️ \nShelter-Building Showdown\nLearn how to build a rainforest shelter using a tarp and hammock system!  \nWater Filtration Challenge – Nature’s Way!\nThink you can turn muddy water into something clean enough to drink (well… almost)? In this survival showdown\, you’ll learn how to use only what Mother Nature provides to filter water in the wild. \nFire-Making Face-Off\nHarness the ancient art of fire-lighting using traditional flint and steel. Who will be the first to spark a flame like our Stone Age ancestors? \nCampfire Cooking Quest\nRoll up your sleeves and cook over open flames! Make and bake your own chocolate damper bread from scratch\, then enjoy it warm by the fire! (But theirs a catch) \nBushtucker Challenge\nThink you’ve got guts? Take on the ultimate taste test with our edible bug buffet. Only the brave need apply! \nSession Times \nChoose your wild adventure slot: \n10:00am – 11:30am \n12:00pm – 1:30pm \n2:00pm – 3:30pm \n  \nWhat’s Included \n✅ All 4 interactive challenge zones\n✅ Free parking\n✅ Campfire treat: chocolate damper bread\n✅ Dietary needs? No problem—just let us know in advance! \nIMPORTANT: Please dress for the weather and wear sturdy footwear—terrain may be uneven. \nRules of the Wild (T&Cs)\nAll participants—adults and children—must have a valid ticket. \nChildren must be accompanied by an adult with a valid ticket. \nTickets must be purchased directly through Yorkshire Dales Bushcraft. \nEvents may be cancelled in cases of severe weather for safety reasons; if so\, you’ll receive a credit note to rebook. \nAll tickets are non-refundable. \n 
URL:https://yorkshiredalesbushcraft.co.uk/event/family-bushcraft-kilnsey-park-2/
LOCATION:Kilnsey Park\, Kilnsey\, Skipton BD23 5PS\, Kilnsey Park\, Skipton\, BD23 5PS
ATTACH;FMTTYPE=image/png:https://yorkshiredalesbushcraft.co.uk/wp-content/uploads/2025/03/Untitled-design-4.png
ORGANIZER;CN="Yorkshire Dales Bushcraft":MAILTO:hello@yorkshiredalesbushcraft.co.uk
END:VEVENT
BEGIN:VEVENT
DTSTART;VALUE=DATE:20250419
DTEND;VALUE=DATE:20250420
DTSTAMP:20260423T100529
CREATED:20250324T130809Z
LAST-MODIFIED:20250418T203312Z
UID:7446-1745020800-1745107199@yorkshiredalesbushcraft.co.uk
SUMMARY:The Ultimate Bushcraft & Survival Challenge!
DESCRIPTION:Step Into the Wild… and Put Your Survival Skills to the Ultimate Test! \nAre YOU ready to thrive—not just survive—in the great outdoors? \nGather your crew and head into the wilderness for an unforgettable experience of hands-on survival training\, family fun\, and thrilling challenges. This isn’t just a workshop—it’s a full-blown Bushcraft & Survival Challenge\, and it’s time to see what you’re made of! \n  \nChallenge Zones – Are You Tough Enough? \n️ \nShelter-Building Showdown\nLearn how to build a rainforest shelter using a tarp and hammock system!  \nWater Filtration Challenge – Nature’s Way!\nThink you can turn muddy water into something clean enough to drink (well… almost)? In this survival showdown\, you’ll learn how to use only what Mother Nature provides to filter water in the wild. \nFire-Making Face-Off\nHarness the ancient art of fire-lighting using traditional flint and steel. Who will be the first to spark a flame like our Stone Age ancestors? \nCampfire Cooking Quest\nRoll up your sleeves and cook over open flames! Make and bake your own chocolate damper bread from scratch\, then enjoy it warm by the fire! (But theirs a catch) \nBushtucker Challenge\nThink you’ve got guts? Take on the ultimate taste test with our edible bug buffet. Only the brave need apply! \nSession Times \nChoose your wild adventure slot: \n10:00am – 11:30am \n12:00pm – 1:30pm \n2:00pm – 3:30pm \n  \nWhat’s Included \n✅ All 4 interactive challenge zones\n✅ Free parking\n✅ Campfire treat: chocolate damper bread\n✅ Dietary needs? No problem—just let us know in advance! \nIMPORTANT: Please dress for the weather and wear sturdy footwear—terrain may be uneven. \nRules of the Wild (T&Cs)\nAll participants—adults and children—must have a valid ticket. \nChildren must be accompanied by an adult with a valid ticket. \nTickets must be purchased directly through Yorkshire Dales Bushcraft. \nEvents may be cancelled in cases of severe weather for safety reasons; if so\, you’ll receive a credit note to rebook. \nAll tickets are non-refundable. \n 
URL:https://yorkshiredalesbushcraft.co.uk/event/family-bushcraft-kilnsey-park/
LOCATION:Kilnsey Park\, Kilnsey\, Skipton BD23 5PS\, Kilnsey Park\, Skipton\, BD23 5PS
ATTACH;FMTTYPE=image/png:https://yorkshiredalesbushcraft.co.uk/wp-content/uploads/2025/03/Untitled-design-4.png
ORGANIZER;CN="Yorkshire Dales Bushcraft":MAILTO:hello@yorkshiredalesbushcraft.co.uk
END:VEVENT
BEGIN:VEVENT
DTSTART;VALUE=DATE:20250420
DTEND;VALUE=DATE:20250421
DTSTAMP:20260423T100529
CREATED:20250417T092529Z
LAST-MODIFIED:20250417T092910Z
UID:7548-1745107200-1745193599@yorkshiredalesbushcraft.co.uk
SUMMARY:The Ultimate Bushcraft & Survival Challenge!
DESCRIPTION:The Ultimate Bushcraft & Survival Challenge! \nStep Into the Wild… and Put Your Survival Skills to the Ultimate Test! \nAre YOU ready to thrive—not just survive—in the great outdoors?\nGather your crew and head into the wilderness for an unforgettable experience of hands-on survival training\, family fun\, and thrilling challenges. This isn’t just a workshop—it’s a full-blown Bushcraft & Survival Challenge\, and it’s time to see what you’re made of! \nChallenge Zones – Are You Tough Enough? \n️ Shelter-Building Showdown\nCould you survive a night in the wild? Learn how to build a natural shelter\, then test your teamwork to create a rainforest-style hideout in our epic shelter-building challenge! \nWater Filtration Challenge – Nature’s Way!\nThink you can turn muddy water into something clean enough to drink (well… almost)? In this survival showdown\, you’ll learn how to use only what Mother Nature provides to filter water in the wild. \nFire-Making Face-Off\nHarness the ancient art of fire-lighting using traditional flint and steel. Who will be the first to spark a flame like our Stone Age ancestors? \nCampfire Cooking Quest\nRoll up your sleeves and cook over open flames! Make and bake your own chocolate damper bread from scratch\, then enjoy it warm by the fire! \nBushtucker Challenge\nThink you’ve got guts? Take on the ultimate taste test with our edible bug buffet. Only the brave need apply! \nSession Times \nChoose your wild adventure slot: \n10:00am – 11:30am\n12:00pm – 1:30pm\n2:00pm – 3:30pm \nWhat’s Included \n✅ All 4 interactive challenge zones\n✅ Free parking\n✅ Campfire treat: chocolate damper bread\n✅ Dietary needs? No problem—just let us know in advance! \nIMPORTANT: Please dress for the weather and wear sturdy footwear—terrain may be uneven. \nRules of the Wild (T&Cs)\nAll participants—adults and children—must have a valid ticket.\nChildren must be accompanied by an adult with a valid ticket.\nTickets must be purchased directly through Yorkshire Dales Bushcraft. \n 
URL:https://yorkshiredalesbushcraft.co.uk/event/the-ultimate-bushcraftchallenge/
LOCATION:Kilnsey Park\, Kilnsey\, Skipton BD23 5PS\, Kilnsey Park\, Skipton\, BD23 5PS
ATTACH;FMTTYPE=image/png:https://yorkshiredalesbushcraft.co.uk/wp-content/uploads/2025/03/Untitled-design-4.png
ORGANIZER;CN="Yorkshire Dales Bushcraft":MAILTO:hello@yorkshiredalesbushcraft.co.uk
END:VEVENT
BEGIN:VEVENT
DTSTART;TZID=UTC:20250420T100000
DTEND;TZID=UTC:20250420T163000
DTSTAMP:20260423T100529
CREATED:20250324T135605Z
LAST-MODIFIED:20250419T162210Z
UID:7459-1745143200-1745166600@yorkshiredalesbushcraft.co.uk
SUMMARY:Salves & Balms: A Medicinal Foraging Experience
DESCRIPTION:Step into the world of medicinal foraging and discover the incredible healing plants our ancestors once relied on for health and well-being. This immersive course takes you deep into nature\, exploring the powerful remedies hidden in the wild. \nYour journey begins with a woodland tea ceremony\, where you’ll enjoy a soothing brew made from freshly foraged ingredients. This mindful ritual sets the tone for the day\, helping you connect with the natural world around you. \nIn the morning\, you’ll embark on a guided foraging walk led by one of our expert instructors. As we explore the landscape\, we’ll identify a diverse range of edible and medicinal plants\, learning about their traditional uses and benefits. \nReturning to camp\, we’ll gather around the fire to bake rustic bush breads\, accompanied by fresh pesto made from our wild harvest. This is a moment to relax\, share stories\, and savor the flavors of the land. \nThe afternoon is all about hands-on herbal crafting. You’ll learn the art of making natural salves and balms\, blending wild ingredients into soothing remedies that you can take home. \nBy the end of the day\, you’ll leave not only with new skills and handmade botanical treasures but also with a deeper appreciation for nature’s incredible pharmacy. \n 
URL:https://yorkshiredalesbushcraft.co.uk/event/salves-balms/
LOCATION:Kilnsey Park\, Kilnsey\, Skipton BD23 5PS\, Kilnsey Park\, Skipton\, BD23 5PS
ATTACH;FMTTYPE=image/png:https://yorkshiredalesbushcraft.co.uk/wp-content/uploads/2025/03/Untitled-design-33.png
ORGANIZER;CN="Yorkshire Dales Bushcraft":MAILTO:hello@yorkshiredalesbushcraft.co.uk
END:VEVENT
BEGIN:VEVENT
DTSTART;TZID=UTC:20250425T180000
DTEND;TZID=UTC:20250427T113000
DTSTAMP:20260423T100529
CREATED:20240918T125730Z
LAST-MODIFIED:20250424T085246Z
UID:6794-1745604000-1745753400@yorkshiredalesbushcraft.co.uk
SUMMARY:Bushcraft weekend course - Family friendly
DESCRIPTION:  \n \nNo prior Bushcraft or camping experience required. Our weekend courses are open to first timers and experienced guests too. Ideal for families.\n  \n\n\n\n\nWelcome to the Ultimate Bushcraft Weekend Experience!\nWhether you’re a seasoned outdoor enthusiast or stepping into the wild for the first time\, our Bushcraft Weekend is designed to immerse you in the beauty of nature and teach you essential survival skills in the stunning Yorkshire Dales National Park\, close to the picturesque town of Grassington\, North Yorkshire. \n  \nYour Adventure Begins: Friday Evening \nArriving at 6pm on Friday\, you’ll be warmly welcomed by a roaring campfire and the savory aroma of a campfire dinner\, setting the tone for an unforgettable weekend. As dinner cooks\, take a moment to tune into the peaceful surroundings and choose where you’ll sleep for the night. Bring along a small tent or hammock\, or\, if you’re up for a wilder experience\, get ready to build your own shelter on Saturday\, where you can spend a cozy night under the stars. \n  \nSaturday: Learn\, Build\, Thrive \nSaturday kicks off with an introduction to the essential rules of survival\, where our expert instructors will share their knowledge of thriving in a woodland environment. You’ll delve into the art of shelter building\, master ancient fire-crafting techniques\, and develop wilderness cooking skills. As evening approaches\, we’ll journey to a nearby lake to fish for our dinner\, with vegetarian and vegan options thoughtfully provided. The night is spent around the campfire\, enjoying a hearty supper and relaxing beneath the canopy of the trees. \n  \nSunday: Forage and Reflect \nAfter a hearty breakfast on Sunday\, we embark on a guided foraging walk to identify edible plants and learn sustainable foraging practices. We’ll also cover different methods for collecting safe drinking water in the wild—an invaluable skill for any adventurer. We wrap up our weekend just before lunchtime\, leaving you with unforgettable memories and new bushcraft skills. \n  \nJoin us for a weekend of adventure\, learning\, and connection with nature! “The more knowledge you carry\, the less equipment you’ll need” \n\n\n\n\n\n\n\n \n \n\n\n\nWhat’s included? \n\nAll meals – Breakfast\, lunch and dinner\nDrinks – Tea\, coffee and soft drinks are available throughout the weekends\nWorkshops – Please see our list of workshops below. \nOn site parking\n\nA list of workshops included in your weekend.\n\nPrimitive and advanced Firecraft skills.\nBasic foraging skills.\nWilderness Baking – Breads and sweet treats.\nWilderness cookery – The Canadian Fish Flag.\nShelter making – Advanced and primitive shelter making skills. \nWoodland crafting – Useful tools\, knot tying etc. \nWater collecting and filtering techniques.\nEssential Knots & Lines.\n\n  \n \n  \n  \nSleeping under the stars\nOn the Bushcraft weekend you can choose to sleep under a Bushcraft tarp (Military style) in a hammock\, build your very own Bushcraft shelter or feel free to bring your own SMALL tent. If its your first time camping that’s amazing too\, our experienced guides will be on hand to help you every step of the way.  \n**Please don’t bring huge family tents\, we don’t have enough space. \n  \n \n  \nToilets & showers \nWe have an onsite toilet block which is around a 6 minute walk from the woodland. We have a solar shower installed in the trees for your comfort. For ease\, we always advise you to carry some baby wipes for your comfort. The toilet block is open 24hrs and has hot running water.  \n  \n \nFAQ’S\nI’m a Solo traveler\, can I attend?  Of course\, a lot of our attendees are solo travelers. It’s a great way to meet new people.  \n  \nI have a disability\, can I attend?  Of course\, our team will be on hand to make your experience as comfortable as possible. If you require accommodation locally\, our reservations team would be happy to organize this for you. Our support vehicle will be on hand for drop off and pick up at each workshop location. The terrain around basecamp is a little uneven\, but we do have some good access points.  \n  \nI have specific dietary needs\, is this going to be ok? Sure. Just let us know at the time of booking\, and we will make sure your are looked after.  \n  \nI have never done anything like this before do I need experience? Absolutely NOT. Everyone is welcome around the campfire. Its an opportunity to get together\, learn ew skills and enjoy reconnecting with the great outdoors. Our highly experienced staff will be on hand to guide you through\, every step of the way.  \n  \nAll under 18’s must be accompanied by an adult.  All dietary needs can be catered for. Just let us know at the time of booking.\n  \n**Terms & conditions – Please read before you book. DEPOSIT – This is a NON refundable deposit. Remaining balance: payments are due 4 weeks before the start date of the event. Inclement weather: On the grounds of health & safety\, YDB reserves the right to cancel at short notice if bad extreme weather is forecasted. In the event of this happening\, guests would be given a credit note and the option to book on to the next course at a date that suits them. 
URL:https://yorkshiredalesbushcraft.co.uk/event/weekend-long-bushcraft-course/
LOCATION:Kilnsey Park\, Kilnsey\, Skipton BD23 5PS\, Kilnsey Park\, Skipton\, BD23 5PS
CATEGORIES:Adult Experience Days
ATTACH;FMTTYPE=image/png:https://yorkshiredalesbushcraft.co.uk/wp-content/uploads/2024/09/Family-friendly-1.png
ORGANIZER;CN="Yorkshire Dales Bushcraft":MAILTO:hello@yorkshiredalesbushcraft.co.uk
END:VEVENT
BEGIN:VEVENT
DTSTART;VALUE=DATE:20250426
DTEND;VALUE=DATE:20250427
DTSTAMP:20260423T100529
CREATED:20250422T101824Z
LAST-MODIFIED:20250422T103341Z
UID:7584-1745625600-1745711999@yorkshiredalesbushcraft.co.uk
SUMMARY:Ultimate Bushcraft and survival challenge
DESCRIPTION:Step Into the Wild… and Put Your Survival Skills to the Ultimate Test! Suitable for adults and children. All children MUST be accompanied by a paying adult.  \nAre YOU ready to thrive—not just survive—in the great outdoors? \nGather your crew and head into the wilderness for an unforgettable experience of hands-on survival training\, family fun\, and thrilling challenges. This isn’t just a workshop—it’s a full-blown Bushcraft & Survival Challenge\, and it’s time to see what you’re made of! \n  \nChallenge Zones – Are You Tough Enough? \n️ \nShelter-Building Showdown\nLearn how to build a rainforest shelter using a tarp and hammock system!  \nWater Filtration Challenge – Nature’s Way!\nThink you can turn muddy water into something clean enough to drink (well… almost)? In this survival showdown\, you’ll learn how to use only what Mother Nature provides to filter water in the wild. \nFire-Making Face-Off\nHarness the ancient art of fire-lighting using traditional flint and steel. Who will be the first to spark a flame like our Stone Age ancestors? \nCampfire Cooking Quest\nRoll up your sleeves and cook over open flames! Make and bake your own chocolate damper bread from scratch\, then enjoy it warm by the fire! (But theirs a catch) \nBushtucker Challenge\nThink you’ve got guts? Take on the ultimate taste test with our edible bug buffet. Only the brave need apply! \nSession Times \nChoose your wild adventure slot: \n10:00am – 11:30am \n12:00pm – 1:30pm \n2:00pm – 3:30pm \n  \nWhat’s Included \n✅ All 4 interactive challenge zones\n✅ Free parking\n✅ Campfire treat: chocolate damper bread\n✅ Dietary needs? No problem—just let us know in advance! \nIMPORTANT: Please dress for the weather and wear sturdy footwear—terrain may be uneven. \nRules of the Wild (T&Cs)\nAll participants—adults and children—must have a valid ticket. \nChildren must be accompanied by an adult with a valid ticket. \nTickets must be purchased directly through Yorkshire Dales Bushcraft. \nEvents may be cancelled in cases of severe weather for safety reasons; if so\, you’ll receive a credit note to rebook. \nAll tickets are non-refundable.
URL:https://yorkshiredalesbushcraft.co.uk/event/ultimatechallenge/
LOCATION:Kilnsey Park\, Kilnsey\, Skipton BD23 5PS\, Kilnsey Park\, Skipton\, BD23 5PS
CATEGORIES:Adult Experience Days,Family Camping Experiences,The Survival Club
ATTACH;FMTTYPE=image/png:https://yorkshiredalesbushcraft.co.uk/wp-content/uploads/2025/03/Untitled-design-4.png
ORGANIZER;CN="Yorkshire Dales Bushcraft":MAILTO:hello@yorkshiredalesbushcraft.co.uk
END:VEVENT
END:VCALENDAR