BEGIN:VCALENDAR
VERSION:2.0
PRODID:-//Yorkshire Dales Bushcraft - ECPv6.15.20//NONSGML v1.0//EN
CALSCALE:GREGORIAN
METHOD:PUBLISH
X-ORIGINAL-URL:https://yorkshiredalesbushcraft.co.uk
X-WR-CALDESC:Events for Yorkshire Dales Bushcraft
REFRESH-INTERVAL;VALUE=DURATION:PT1H
X-Robots-Tag:noindex
X-PUBLISHED-TTL:PT1H
BEGIN:VTIMEZONE
TZID:UTC
BEGIN:STANDARD
TZOFFSETFROM:+0000
TZOFFSETTO:+0000
TZNAME:UTC
DTSTART:20240101T000000
END:STANDARD
END:VTIMEZONE
BEGIN:VEVENT
DTSTART;TZID=UTC:20250208T100000
DTEND;TZID=UTC:20250208T153000
DTSTAMP:20260423T123400
CREATED:20241126T175105Z
LAST-MODIFIED:20250205T102944Z
UID:7120-1739008800-1739028600@yorkshiredalesbushcraft.co.uk
SUMMARY:Introduction to Bushcraft Skills day
DESCRIPTION:Gift Vouchers available \n \nIntroduction to Bushcraft Skills day\nOur Bushcraft Introduction Day is perfect for anyone with a passion for the outdoors who wants to take the next step in exploring the world of Bushcraft. Dive deeper into essential skills and expand your knowledge in a hands-on\, engaging environment. You don’t need any experience at all to join our Bushcraft day.  \n  \n  \nYour workshops\n\nShelter making Skills \nBasic fire making methods\nWater filtering techniques\nKnife and axe skills \nKnots and lines\n\nWhat’s included;\nAll Bushcraft workshops\nSnacks\nHot Drinks\nFree parking \nKit list \n\nGood sturdy footwear\nWaterproof clothing\nCup and water bottle\nPacked lunch\n\n  \nTerms & Conditions\n\nAll participants must hold a valid ticket to attend.\nUnder-18s must be accompanied by an adult with a valid ticket.\nIn cases of adverse weather\, YDB reserves the right to postpone events to ensure the health and safety of all participants. If an event is postponed\, guests will receive a credit note to apply toward a future course.\nPlease note that all ticket purchases are non-refundable.
URL:https://yorkshiredalesbushcraft.co.uk/event/introduction-to-bushcraft-skills-day/
LOCATION:Kilnsey Park\, Kilnsey\, Skipton BD23 5PS\, Kilnsey Park\, Skipton\, BD23 5PS
ATTACH;FMTTYPE=image/png:https://yorkshiredalesbushcraft.co.uk/wp-content/uploads/2024/08/Untitled-design-6.png
ORGANIZER;CN="Yorkshire Dales Bushcraft":MAILTO:hello@yorkshiredalesbushcraft.co.uk
END:VEVENT
BEGIN:VEVENT
DTSTART;TZID=UTC:20250215T100000
DTEND;TZID=UTC:20250215T163000
DTSTAMP:20260423T123400
CREATED:20241126T182739Z
LAST-MODIFIED:20250212T115608Z
UID:7124-1739613600-1739637000@yorkshiredalesbushcraft.co.uk
SUMMARY:Wilderness Bakery course - As SEEN on C5
DESCRIPTION:Gift Vouchers available\n\n\n\nAs seen on C5’s Winter on the farm LIVE\n\n\n\n\n\n\n\n\n\n  \nJoin us for an unforgettable day at Basecamp\, where the warmth of the campfire blends with the delightful aromas of outdoor baking. Your adventure begins with a steaming cup of hot chocolate as we gather around the fire for a friendly welcome and introduction. \n  \nUnder the guidance of our expert instructors and skilled wilderness chefs\, you’ll craft a variety of mouthwatering campfire treats. Start the morning with soft\, gooey cinnamon rolls\, the perfect pairing for your coffee break. For lunch\, dive into the art of campfire pizza-making\, mastering both traditional flatbreads and hearty calzones. Finally\, wrap up your day by  baking delicious sweet and savory scones to take home and enjoy with loved ones. \n  \nThis hands-on\, flavor-packed experience is the perfect way to combine outdoor adventure with culinary creativity. Don’t miss it! \n\n\n\n\n\n\n  \nHere’s a glimpse of what your day will look like:\n  \nSession 1 – Cinnamon and Apple Rolls\nKick off the day by baking mouthwatering cinnamon and apple rolls\, a treat that’s perfect year-round. In this session\, you’ll discover the secrets of effective fire management\, a key skill for successful campfire baking.\n  \n \n \nSession 2 – Campfire Pizza\nNext\, you’ll dive into the art of crafting your own campfire pizza. Learn how to prepare and cook this delicious classic\, perfect for family camping trips or any outdoor adventure.\n  \n \n \nSession 3 – Afternoon Cream Tea\nIndulge in the tradition of a classic afternoon cream tea. You’ll bake your own campfire scones before taking a moment to relax and savor your creations amidst the tranquil forest surroundings.\n  \n \n  \nTerms & Conditions \n\nAll participants must hold a valid ticket to attend.\nUnder-18s must be accompanied by an adult with a valid ticket.\nIn cases of adverse weather\, YDB reserves the right to postpone events to ensure the health and safety of all participants. If an event is postponed\, guests will receive a credit note to apply toward a future course.\nPlease note that all ticket purchases are non-refundable.\n\n  \n\n  \n 
URL:https://yorkshiredalesbushcraft.co.uk/event/wilderness-bakery-day-course-as-seen-on-c5/
LOCATION:Kilnsey Park\, Kilnsey\, Skipton BD23 5PS\, Kilnsey Park\, Skipton\, BD23 5PS
ATTACH;FMTTYPE=image/png:https://yorkshiredalesbushcraft.co.uk/wp-content/uploads/2024/08/CAMPFIRE-BAKERY-DAYS-3.png
ORGANIZER;CN="Yorkshire Dales Bushcraft":MAILTO:hello@yorkshiredalesbushcraft.co.uk
END:VEVENT
END:VCALENDAR