BEGIN:VCALENDAR
VERSION:2.0
PRODID:-//Yorkshire Dales Bushcraft - ECPv6.15.20//NONSGML v1.0//EN
CALSCALE:GREGORIAN
METHOD:PUBLISH
X-ORIGINAL-URL:https://yorkshiredalesbushcraft.co.uk
X-WR-CALDESC:Events for Yorkshire Dales Bushcraft
REFRESH-INTERVAL;VALUE=DURATION:PT1H
X-Robots-Tag:noindex
X-PUBLISHED-TTL:PT1H
BEGIN:VTIMEZONE
TZID:UTC
BEGIN:STANDARD
TZOFFSETFROM:+0000
TZOFFSETTO:+0000
TZNAME:UTC
DTSTART:20230101T000000
END:STANDARD
END:VTIMEZONE
BEGIN:VEVENT
DTSTART;TZID=UTC:20240927T100000
DTEND;TZID=UTC:20241002T170000
DTSTAMP:20260423T184100
CREATED:20240403T125302Z
LAST-MODIFIED:20240828T131341Z
UID:6535-1727431200-1727888400@yorkshiredalesbushcraft.co.uk
SUMMARY:Stargazing & Astrophotography Expedition 2024
DESCRIPTION:Embark on an extraordinary journey to the Isle of Rum for our stargazing and astrophotography expedition\, where the mysteries of the universe await your discovery. This all-inclusive package offers the ultimate adventure\, including return ferry travel from the mainland\, delectable meals\, and refreshing soft drinks throughout your stay\, all against the breathtaking backdrop of Rum’s natural beauty. Rest your weary head in the comfort of the Isle of Rum Bunkhouse\, where you’ll find cozy accommodations awaiting your arrival. Join us for an unforgettable experience under the star-studded skies\, where every moment is a celestial marvel waiting to be captured. \n  \n2024 Date: 27th September – 2nd October 2024 – 9 Tickets left  BOOK NOW \nEmbark on an extraordinary journey to the Isle of Rum for our stargazing and astrophotography expedition\, where the mysteries of the universe await your discovery. This all-inclusive package offers the ultimate adventure\, including return ferry travel from the mainland\, delectable meals\, and refreshing soft drinks throughout your stay\, all against the breathtaking backdrop of Rum’s natural beauty. Rest your weary head in the comfort of the Isle of Rum Bunkhouse\, where you’ll find cozy accommodations awaiting your arrival. Join us for an unforgettable experience under the star-studded skies\, where every moment is a celestial marvel waiting to be captured. \nExpedition Departure point\nThe Isle of Rum expedition departs from the port of Mallaig where we board the vessel for our 2-hour voyage to the Island. Be sure to have your camera to hand\, we often see Dolphins\, Whales\, and Sharks. If you are travelling up the night before both Mallaig and Arisaig have some wonderful accommodation options available. Please ask our reservations team for more details.  \nPlease note:  All vehicles MUST be left on the mainland. The town of Mallaig has several car parking options\, some of them FREE too.  \nThroughout the weekend you will have the chance to attend all of the following workshops;\n\nGuided Stargazing\nAstrophotography classes\nGuided fishing Excursions\n\n  \n 
URL:https://yorkshiredalesbushcraft.co.uk/event/stargazing-astrophotography-expedition-2024/
LOCATION:Island of Rum\, Isle of Rum\, PH43 4RR\, United Kingdom
ATTACH;FMTTYPE=image/png:https://yorkshiredalesbushcraft.co.uk/wp-content/uploads/2020/10/21.png
ORGANIZER;CN="Yorkshire Dales Bushcraft":MAILTO:hello@yorkshiredalesbushcraft.co.uk
END:VEVENT
BEGIN:VEVENT
DTSTART;TZID=UTC:20241005T100000
DTEND;TZID=UTC:20241005T163000
DTSTAMP:20260423T184100
CREATED:20240826T081042Z
LAST-MODIFIED:20240826T082316Z
UID:6734-1728122400-1728145800@yorkshiredalesbushcraft.co.uk
SUMMARY:Wilderness Cookery day - Ponassing Fish
DESCRIPTION:AS SEEN ON BBC 2 Robson Greens weekend escapes\n \n  \nJoin us around the campfire for an immersive\, hands-on day of learning essential wilderness cookery skills. In this session\, you’ll master the art of creating the perfect cookery temperature\, with a focus on preparing and cooking Rainbow Trout using the traditional Canadian fish flag method. This ancient technique will bring out the best flavors in your catch\, offering a truly unique culinary experience. \n  \n  \nWhat’s Included: \n\nDelicious Lunch & Refreshing Drinks\nComplimentary Parking\n\nPrepare to connect with nature and elevate your outdoor cooking skills! \n  \n  \n \n  \nUnder 18’s MUST be accompanied by an adult with a valid ticket.  \n  \n 
URL:https://yorkshiredalesbushcraft.co.uk/event/wilderness-cookery/
LOCATION:Kilnsey Park\, Kilnsey\, Skipton BD23 5PS\, Kilnsey Park\, Skipton\, BD23 5PS
ATTACH;FMTTYPE=image/jpeg:https://yorkshiredalesbushcraft.co.uk/wp-content/uploads/2024/08/Family-Bushcraft-experience-1.jpg
ORGANIZER;CN="Yorkshire Dales Bushcraft":MAILTO:hello@yorkshiredalesbushcraft.co.uk
END:VEVENT
BEGIN:VEVENT
DTSTART;TZID=UTC:20241012T100000
DTEND;TZID=UTC:20241012T163000
DTSTAMP:20260423T184100
CREATED:20240826T083739Z
LAST-MODIFIED:20241009T154705Z
UID:6740-1728727200-1728750600@yorkshiredalesbushcraft.co.uk
SUMMARY:Wilderness Bakery course
DESCRIPTION:Experience the Magic of Campfire Baking\nJoin us for an unforgettable day at Basecamp\, where the warmth of the campfire meets the art of baking. Begin your adventure with a comforting cup of hot chocolate as we gather around the fire for a warm welcome and introduction. Our team of expert instructors and wilderness chefs will be by your side every step of the way\, ensuring that whether you’re a seasoned camper or a complete beginner\, you’ll feel right at home. Please note\, participants under 18 must be accompanied by a paying adult. \nHere’s a glimpse of what your day will look like: \nSession 1 – Cinnamon and Apple Rolls\nKick off the day by baking mouthwatering cinnamon and apple rolls\, a treat that’s perfect year-round. In this session\, you’ll discover the secrets of effective fire management\, a key skill for successful campfire baking. \nSession 2 – Campfire Pizza\nNext\, you’ll dive into the art of crafting your own campfire pizza. Learn how to prepare and cook this delicious classic\, perfect for family camping trips or any outdoor adventure. \nSession 3 – Afternoon Cream Tea\nIndulge in the tradition of a classic afternoon cream tea. You’ll bake your own campfire scones before taking a moment to relax and savor your creations amidst the tranquil forest surroundings. \nSession 4 – Bake Your Own Loaf\nEnd your day with a creative twist by baking your very own loaf of bread. Whether you prefer a simple\, classic loaf or want to experiment with exciting flavors\, the choice is yours. Your freshly baked loaf will be lovingly packaged for you to take home and share with your family. \n\n“The more knowledge you carry\, the less equipment you’ll need.” \nEmbrace the wilderness\, sharpen your skills\, and create delicious memories with us at Basecamp. \n \n 
URL:https://yorkshiredalesbushcraft.co.uk/event/wilderness-bakery-course-2/
LOCATION:Kilnsey Park\, Kilnsey\, Skipton BD23 5PS\, Kilnsey Park\, Skipton\, BD23 5PS
ATTACH;FMTTYPE=image/png:https://yorkshiredalesbushcraft.co.uk/wp-content/uploads/2024/08/CAMPFIRE-BAKERY-DAYS-3.png
ORGANIZER;CN="Yorkshire Dales Bushcraft":MAILTO:hello@yorkshiredalesbushcraft.co.uk
END:VEVENT
BEGIN:VEVENT
DTSTART;TZID=UTC:20241013T100000
DTEND;TZID=UTC:20241013T163000
DTSTAMP:20260423T184100
CREATED:20240118T103715Z
LAST-MODIFIED:20240927T111044Z
UID:6263-1728813600-1728837000@yorkshiredalesbushcraft.co.uk
SUMMARY:Wilderness Bakery Course
DESCRIPTION:**As seen on Channel 5’s Five on the Farm Festival** \n  \n*** Personalized gift cards available *** \n  \nJoin us around the campfire for a magical day of Campfire baking.  We start our day with a hot chocolate and a welcome brief around the campfire. Our team of instructors and wilderness chefs will be on hand throughout the day to guide you through\, so don’t worry if you’re a newbie\, everyone is welcome here at Basecamp.   Under 18’s must be accompanied by a paying adult.  \n  \nHere is a rough plan for the day. \n  \n  \n1st session – Cinnamon and Apple rolls – A delicious snack all year round\, and one of my favorite’s.  In this session good fire management is key to success.  \n  \n  \n2nd Session – Campfire Pizza – In this session you will learn how to prepare and cook your very own pizza. A simple\, delicious classic\, a real treat on those family camping trips.  \n  \n  \n3rd Session – Afternoon cream tea – In this session you’ll be baking your very own campfire scones\, before it’s time to relax and enjoy the fruits of your labor.  Take some time to enjoy the forest and its surroundings.  \n  \n  \nSession 4 – Bake your own loaf – It’s time to get creative and really mix things up. You could bake a delicious plain loaf or add something a little more exciting to your dough. The choice is simply yours! Your delicious fresh loaf will be packaged up for you to take home and enjoy with the whole family.  \n  \n“The more knowledge you carry\, the less equipment you’ll need”  \n 
URL:https://yorkshiredalesbushcraft.co.uk/event/wilderness-bakery-course/
LOCATION:The Camp Hill Estate Kirklington\, Bedale DL8 2LS\, The Camp Hill Estate\, DL8 2LS
ATTACH;FMTTYPE=image/jpeg:https://yorkshiredalesbushcraft.co.uk/wp-content/uploads/2023/09/61-1.jpg
ORGANIZER;CN="Yorkshire Dales Bushcraft":MAILTO:hello@yorkshiredalesbushcraft.co.uk
END:VEVENT
BEGIN:VEVENT
DTSTART;TZID=UTC:20241019T100000
DTEND;TZID=UTC:20241019T140000
DTSTAMP:20260423T184100
CREATED:20240307T133140Z
LAST-MODIFIED:20240925T122743Z
UID:6455-1729332000-1729346400@yorkshiredalesbushcraft.co.uk
SUMMARY:Blacksmith Experience - Forge your own Bushcraft Knife
DESCRIPTION:Join us at our smithy\, deep in the stunning Yorkshire Dales . \nUnder the guidance of our expert Blacksmith\, you will learn how to forge your own Bushcraft knife to take home. You are encouraged to bring your very own design to the table\, our team will be on hand to guide you every step of the way!  \nYour experience begins at 10am – Please arrive around 0930 for a welcome coffee and brief. Your experience will end around 2pm. Drinks and snacks are also included.  \n  \n***** Personalized gift voucher’s are available for all of our experiences**** \n  \n 
URL:https://yorkshiredalesbushcraft.co.uk/event/blacksmith-experience-forge-your-own-bushcraft-knife-3/
LOCATION:Grassington\, Nr Skipton
ATTACH;FMTTYPE=image/jpeg:https://yorkshiredalesbushcraft.co.uk/wp-content/uploads/2018/08/2-1.jpg
ORGANIZER;CN="Yorkshire Dales Bushcraft":MAILTO:hello@yorkshiredalesbushcraft.co.uk
END:VEVENT
BEGIN:VEVENT
DTSTART;TZID=UTC:20241028T100000
DTEND;TZID=UTC:20241028T163000
DTSTAMP:20260423T184100
CREATED:20240826T093114Z
LAST-MODIFIED:20241027T125837Z
UID:6747-1730109600-1730133000@yorkshiredalesbushcraft.co.uk
SUMMARY:Family Halloween bakery experience
DESCRIPTION:A family Halloween bakery session is the perfect way to gather around the campfire\, connect\, and create some delicious treats together. It’s a fun and cozy opportunity for everyone to bond while learning how to bake delightful goodies over an open fire. All of the delicious campfire treats will be cooked using the Dutch oven\, directly over the hot coals of the campfire.  \n  \nYou can choose from our morning or afternoon session. In your chosen session you will learn how to create a range of delicious edible treats to take home with you.  \n  \n10am – 12pm or 1pm – 3pm \n  \nAll guests MUST be in possession of a valid ticket. This includes both adults and children.  \n 
URL:https://yorkshiredalesbushcraft.co.uk/event/family-halloween-bakery-experience/
LOCATION:Kilnsey Park\, Kilnsey\, Skipton BD23 5PS\, Kilnsey Park\, Skipton\, BD23 5PS
ATTACH;FMTTYPE=image/png:https://yorkshiredalesbushcraft.co.uk/wp-content/uploads/2024/08/CAMPFIRE-BAKERY-DAYS-4.png
ORGANIZER;CN="Yorkshire Dales Bushcraft":MAILTO:hello@yorkshiredalesbushcraft.co.uk
END:VEVENT
END:VCALENDAR