BEGIN:VCALENDAR
VERSION:2.0
PRODID:-//Yorkshire Dales Bushcraft - ECPv6.15.20//NONSGML v1.0//EN
CALSCALE:GREGORIAN
METHOD:PUBLISH
X-ORIGINAL-URL:https://yorkshiredalesbushcraft.co.uk
X-WR-CALDESC:Events for Yorkshire Dales Bushcraft
REFRESH-INTERVAL;VALUE=DURATION:PT1H
X-Robots-Tag:noindex
X-PUBLISHED-TTL:PT1H
BEGIN:VTIMEZONE
TZID:UTC
BEGIN:STANDARD
TZOFFSETFROM:+0000
TZOFFSETTO:+0000
TZNAME:UTC
DTSTART:20230101T000000
END:STANDARD
END:VTIMEZONE
BEGIN:VEVENT
DTSTART;TZID=UTC:20240704T100000
DTEND;TZID=UTC:20240704T160000
DTSTAMP:20260423T231840
CREATED:20240110T150542Z
LAST-MODIFIED:20240701T103911Z
UID:6201-1720087200-1720108800@yorkshiredalesbushcraft.co.uk
SUMMARY:Wilderness Cookery Experience - Ponassing Fish
DESCRIPTION:https://yorkshiredalesbushcraft.co.uk/wp-content/uploads/2024/01/Wilderness-Cookery-Experience.mp4\n  \n  \n  \n.  \n  \nStay with us a little while longer – We have a whole range of wonderful accommodation options right here onsite\, just a couple of minutes walk from our basecamp. Check out your options here – Camp Kátur – Stay\, Feast & Celebrate (campkatur.com)\n 
URL:https://yorkshiredalesbushcraft.co.uk/event/wilderness-cookery-experience-ponassing-fish/
LOCATION:The Camp Hill Estate Kirklington\, Bedale DL8 2LS\, The Camp Hill Estate\, DL8 2LS
ATTACH;FMTTYPE=image/jpeg:https://yorkshiredalesbushcraft.co.uk/wp-content/uploads/2024/01/Wilderness-Cookery-Experience.jpg
ORGANIZER;CN="Yorkshire Dales Bushcraft":MAILTO:hello@yorkshiredalesbushcraft.co.uk
END:VEVENT
BEGIN:VEVENT
DTSTART;TZID=UTC:20240720T100000
DTEND;TZID=UTC:20240720T150000
DTSTAMP:20260423T231840
CREATED:20240410T090504Z
LAST-MODIFIED:20240716T105654Z
UID:6588-1721469600-1721487600@yorkshiredalesbushcraft.co.uk
SUMMARY:Medicinal foraging\, Salves and Balms workshop
DESCRIPTION:What is a salve and balm?\n \nSalves and balms are topical preparations typically made from natural ingredients such as herbs\, oils\, and waxes. They are commonly used for soothing and healing purposes on the skin.\n \n \n \n“Embark on a journey into the heart of nature with our exclusive Salves and Balms Workshop. Join us as we delve into the lush expanse of our estate\, foraging for precious ingredients to craft exquisite balms. Immerse yourself in this hands-on experience\, guided by our expert forager who will unveil the secrets of herbal remedies and the art of botanical blending. Discover the alchemy of nature as you create your own personalized salves\, all amidst the serene beauty of our estate. Don’t miss this opportunity to reconnect with the earth and indulge your senses in this enriching workshop. At the end of the workshop you will have a range of products to take home with you – all included in the price of course. “
URL:https://yorkshiredalesbushcraft.co.uk/event/salves-and-balms-workshops/
LOCATION:The Camp Hill Estate Kirklington\, Bedale DL8 2LS\, The Camp Hill Estate\, DL8 2LS
ATTACH;FMTTYPE=image/png:https://yorkshiredalesbushcraft.co.uk/wp-content/uploads/2024/04/2-1.png
ORGANIZER;CN="Yorkshire Dales Bushcraft":MAILTO:hello@yorkshiredalesbushcraft.co.uk
END:VEVENT
BEGIN:VEVENT
DTSTART;TZID=UTC:20240721T093000
DTEND;TZID=UTC:20240721T163000
DTSTAMP:20260423T231840
CREATED:20230524T090617Z
LAST-MODIFIED:20240327T110036Z
UID:5240-1721554200-1721579400@yorkshiredalesbushcraft.co.uk
SUMMARY:Bushcraft essential skills day
DESCRIPTION:***Personalized gift vouchers are available*** \n  \n \n  \nJoin us here at basecamp for a day of Bushcraft\, learning and practicing a variety of necessary skills to help you survive and thrive in the wild.  A hands on day\, delivered by our team of Bushcraft experts.  \n  \n  \n  \n\nShelter making – Primitive and tarps. \nFire making skills – Primitive and advanced methods\nWater purification \nBasic introduction to foraging skills – Edible and medicinal\nWilderness cookery skills – Preparation of Game.\nKnife and axe skills \nKnots and lines\n\n  \nWhat’s included; \n  \nAll workshops\nLunch\nSnacks\nDrinks\nFree parking\nDiscounts on our future events \nAge: 18 plus \n  \n 
URL:https://yorkshiredalesbushcraft.co.uk/event/bushcraft-essential-skills-day-2/
LOCATION:The Camp Hill Estate Kirklington\, Bedale DL8 2LS\, The Camp Hill Estate\, DL8 2LS
ATTACH;FMTTYPE=image/jpeg:https://yorkshiredalesbushcraft.co.uk/wp-content/uploads/2023/05/81.jpg
ORGANIZER;CN="Yorkshire Dales Bushcraft":MAILTO:hello@yorkshiredalesbushcraft.co.uk
END:VEVENT
BEGIN:VEVENT
DTSTART;TZID=UTC:20240726T180000
DTEND;TZID=UTC:20240728T180000
DTSTAMP:20260423T231840
CREATED:20240110T131543Z
LAST-MODIFIED:20240722T154003Z
UID:6184-1722016800-1722189600@yorkshiredalesbushcraft.co.uk
SUMMARY:Bushcraft Weekend Experience
DESCRIPTION:  \n  \n  \n  \nhttps://yorkshiredalesbushcraft.co.uk/wp-content/uploads/2024/01/Bushcraft-weekend-course.mp4\n\nA £99 Deposit secures your place today\n  \nJoin us here in the heart of the Yorkshire Dales for our Bushcraft weekend. Unwind and relax in the heart of the stunning Yorkshire countryside. Gather around the campfire\, make new friends and tune in with the natural world. learn a whole range of essential Bushcraft skills. You don’t need any prior experience to attend our weekend course\, everyone is welcome\, even if its your first time camping\, don’t worry – Our highly experienced team will look after you every step of the way. This is not a test of endurance\, but a chance to get hands on experience –  you’ll be pleasantly surprised at how much we cover in our weekend course.  Throughout the weekend you will learn how to build shelter\, make fire using primitive methods\, prepare and cook Fish or Game\, learn lake fishing skills\, learn how to bake and cook on the campfire\, and so much more.  \n  \nWhat’s included?  \n\nAll meals – Breakfast\, lunch and dinner\nDrinks – Tea\, coffee and soft drinks are available throughout the weekend\nSnacks – Biscuits and sweet treats\nWorkshops – Please see our list of workshops below. \nOn site – Secure parking \n\n  \nA list of workshops included in your weekend. \n\nPrimitive and advanced Firecraft skills\nNavigation and Orientation: Using natural signs\, maps\, and basic navigation tools (like a compass) to find directions and navigate through unfamiliar terrain.\nBasic foraging skills\nWilderness Baking – Breads and sweet treats \nWilderness cookery – Fish or Game\nShelter making – Advanced and primitive shelter making skills. \nWoodland crafting – Useful tools\, knot tying etc. \nGuided health and wellbeing – Meditation\, forest bathing\, mind fullness \n\n  \nOver 18’s only. All dietary needs can be catered for. Just let us know at the time of booking. \n  \nFAQ’S\nI’m a Solo traveler\, can I attend?  Of course\, a lot of our attendees are solo travelers. It’s a great way to meet new people.  \nI have a disability\, can I attend?  Of course\, our team will be on hand to make your experience as comfortable as possible. If you require accommodation locally\, our reservations team would be happy to organize this for you. Our support vehicle will be on hand for drop off and pick up at each workshop location. The terrain around basecamp is a little uneven\, but we do have some good access points.  \nI have specific dietary needs\, is this going to be ok? Sure. Just let us know at the time of booking\, and we will make sure your are looked after.  \nI have never done anything like this before do I need experience? Absolutely NOT. Everyone is welcome around the campfire. Its an opportunity to get together\, learn ew skills and enjoy reconnecting with the great outdoors. Our highly experienced staff will be on hand to guide you through\, every step of the way.  \n 
URL:https://yorkshiredalesbushcraft.co.uk/event/bushcraft-weekend-experience-5/
LOCATION:Kilnsey Park\, Kilnsey\, Skipton BD23 5PS\, Kilnsey Park\, Skipton\, BD23 5PS
ATTACH;FMTTYPE=image/jpeg:https://yorkshiredalesbushcraft.co.uk/wp-content/uploads/2023/05/81.jpg
ORGANIZER;CN="Yorkshire Dales Bushcraft":MAILTO:hello@yorkshiredalesbushcraft.co.uk
END:VEVENT
END:VCALENDAR