BEGIN:VCALENDAR
VERSION:2.0
PRODID:-//Yorkshire Dales Bushcraft - ECPv6.15.20//NONSGML v1.0//EN
CALSCALE:GREGORIAN
METHOD:PUBLISH
X-WR-CALNAME:Yorkshire Dales Bushcraft
X-ORIGINAL-URL:https://yorkshiredalesbushcraft.co.uk
X-WR-CALDESC:Events for Yorkshire Dales Bushcraft
REFRESH-INTERVAL;VALUE=DURATION:PT1H
X-Robots-Tag:noindex
X-PUBLISHED-TTL:PT1H
BEGIN:VTIMEZONE
TZID:UTC
BEGIN:STANDARD
TZOFFSETFROM:+0000
TZOFFSETTO:+0000
TZNAME:UTC
DTSTART:20230101T000000
END:STANDARD
END:VTIMEZONE
BEGIN:VEVENT
DTSTART;TZID=UTC:20240310T100000
DTEND;TZID=UTC:20240310T163000
DTSTAMP:20260424T052348
CREATED:20230524T073847Z
LAST-MODIFIED:20231015T121200Z
UID:5220-1710064800-1710088200@yorkshiredalesbushcraft.co.uk
SUMMARY:Wilderness Bakery day
DESCRIPTION:**As seen on Channel 5’s Five on the Farm Festival** \n  \n*** Personalized gift cards available *** \n  \nJoin us around the campfire for a magical day of Campfire baking.  We start our day with a hot chocolate and a welcome brief around the campfire. Our team of instructors and wilderness chefs will be on hand throughout the day to guide you through\, so don’t worry if you’re a newbie\, everyone is welcome here at Basecamp.   Under 18’s must be accompanied by a paying adult.  \n  \nHere is a rough plan for the day. \n  \n  \n1st session – Cinnamon and Apple rolls – A delicious snack all year round\, and one of my favorite’s.  In this session good fire management is key to success.  \n  \n  \n2nd Session – Campfire Pizza – In this session you will learn how to prepare and cook your very own pizza. A simple\, delicious classic\, a real treat on those family camping trips.  \n  \n  \n3rd Session – Afternoon cream tea – In this session you’ll be baking your very own campfire scones\, before it’s time to relax and enjoy the fruits of your labor.  Take some time to enjoy the forest and its surroundings.  \n  \n  \nSession 4 – Bake your own loaf – It’s time to get creative and really mix things up. You could bake a delicious plain loaf or add something a little more exciting to your dough. The choice is simply yours! Your delicious fresh loaf will be packaged up for you to take home and enjoy with the whole family.  \n  \n“The more knowledge you carry\, the less equipment you’ll need” 
URL:https://yorkshiredalesbushcraft.co.uk/event/wilderness-bakery-day-2/
LOCATION:The Camp Hill Estate Kirklington\, Bedale DL8 2LS\, The Camp Hill Estate\, DL8 2LS
ATTACH;FMTTYPE=image/jpeg:https://yorkshiredalesbushcraft.co.uk/wp-content/uploads/2022/09/Isle-of-Rum-3.jpg
ORGANIZER;CN="Yorkshire Dales Bushcraft":MAILTO:hello@yorkshiredalesbushcraft.co.uk
END:VEVENT
BEGIN:VEVENT
DTSTART;TZID=UTC:20240316T100000
DTEND;TZID=UTC:20240316T160000
DTSTAMP:20260424T052348
CREATED:20230925T110949Z
LAST-MODIFIED:20240314T093027Z
UID:5984-1710583200-1710604800@yorkshiredalesbushcraft.co.uk
SUMMARY:Seasonal foraging & Wilderness cookery experience day
DESCRIPTION:As the first signs of spring begin to emerge\, the estate comes to life once again. You’ll start you day with a guided foraging walk on the look out for ingredients for to accompany your campfire lunch. Throughout today you will learn how to prepare and cook fish and  game\, as you create a delicious 2 course lunch to enjoy\, all carefully cooked on the campfire.  \n  \nPersonalized gift vouchers are available for all of our adventures. 
URL:https://yorkshiredalesbushcraft.co.uk/event/wilderness-cookery-day-2/
LOCATION:The Camp Hill Estate Kirklington\, Bedale DL8 2LS\, The Camp Hill Estate\, DL8 2LS
CATEGORIES:Adult Experience Days
ATTACH;FMTTYPE=image/jpeg:https://yorkshiredalesbushcraft.co.uk/wp-content/uploads/2023/05/31.jpg
ORGANIZER;CN="Yorkshire Dales Bushcraft":MAILTO:hello@yorkshiredalesbushcraft.co.uk
END:VEVENT
BEGIN:VEVENT
DTSTART;TZID=UTC:20240330T100000
DTEND;TZID=UTC:20240330T140000
DTSTAMP:20260424T052348
CREATED:20230904T183206Z
LAST-MODIFIED:20240325T100653Z
UID:5755-1711792800-1711807200@yorkshiredalesbushcraft.co.uk
SUMMARY:Blacksmith experience  - Forge your own Bushcraft knife
DESCRIPTION:*** Sorry\, we are now fully BOOKED***\n  \nJoin us at our smithy\, deep in the stunning Yorkshire Dales . \nUnder the guidance of our expert Blacksmith\, you will learn how to forge your own Bushcraft knife to take home. You are encouraged to bring your very own design to the table\, our team will be on hand to guide you every step of the way!  \nYour experience begins at 10am – Please arrive around 0930 for a welcome coffee and brief. Your experience will end around 2pm. Drinks and snacks are also included.  \n  \n***** Personalized gift voucher’s are available for all of our experiences****
URL:https://yorkshiredalesbushcraft.co.uk/event/blacksmith/
LOCATION:Grassington\, Nr Skipton
ATTACH;FMTTYPE=image/jpeg:https://yorkshiredalesbushcraft.co.uk/wp-content/uploads/2023/08/WhatsApp-Image-2023-08-13-at-07.45.32.jpg
ORGANIZER;CN="Yorkshire Dales Bushcraft":MAILTO:hello@yorkshiredalesbushcraft.co.uk
END:VEVENT
END:VCALENDAR