BEGIN:VCALENDAR
VERSION:2.0
PRODID:-//Yorkshire Dales Bushcraft - ECPv6.15.20//NONSGML v1.0//EN
CALSCALE:GREGORIAN
METHOD:PUBLISH
X-ORIGINAL-URL:https://yorkshiredalesbushcraft.co.uk
X-WR-CALDESC:Events for Yorkshire Dales Bushcraft
REFRESH-INTERVAL;VALUE=DURATION:PT1H
X-Robots-Tag:noindex
X-PUBLISHED-TTL:PT1H
BEGIN:VTIMEZONE
TZID:UTC
BEGIN:STANDARD
TZOFFSETFROM:+0000
TZOFFSETTO:+0000
TZNAME:UTC
DTSTART:20220101T000000
END:STANDARD
END:VTIMEZONE
BEGIN:VEVENT
DTSTART;TZID=UTC:20231008T093000
DTEND;TZID=UTC:20231008T163000
DTSTAMP:20260424T155628
CREATED:20220923T095941Z
LAST-MODIFIED:20230921T094330Z
UID:4552-1696757400-1696782600@yorkshiredalesbushcraft.co.uk
SUMMARY:Wilderness Bakery Day
DESCRIPTION:SORRY – WE ARE NOW FULLY BOOKED – Our 2024 dates are available here – Wilderness Bakery day – Yorkshire Dales Bushcraft \n  \n**As seen on Channel 5’s Five on the Farm Festival** \n  \n*** Personalized gift cards available *** \n  \nJoin us around the campfire for a magical day of Campfire baking.  We start our day with a hot chocolate and a welcome brief around the campfire. Our team of instructors and wilderness chefs will be on hand throughout the day to guide you through\, so don’t worry if you’re a newbie\, everyone is welcome here at Basecamp.  suitable for all ages. Under 18’s must be accompanied by a paying adult.  \n  \nHere is a rough plan for the day. \n  \n  \n1st session – Cinnamon and Apple rolls – A delicious snack all year round\, and one of my favorite’s.  In this session good fire management is key to success.  \n  \n  \n2nd Session – Campfire Pizza – In this session you will learn how to prepare and cook your very own pizza. A simple\, delicious classic\, a real treat on those family camping trips.  \n  \n  \n3rd Session – Afternoon cream tea – In this session you’ll be baking your very own campfire scones\, before it’s time to relax and enjoy the fruits of your labour.  Take some time to enjoy the forest and its surroundings.  \n  \n  \nSession 4 – Bake your own loaf – It’s time to get creative and really mix things up. You could bake a delicious plain loaf or add something a little more exciting to your dough. The choice is simply yours! Your delicious fresh loaf will be packaged up for you to take home and enjoy with the whole family.  \n  \n“The more knowledge you carry\, the less equipment you’ll need” 
URL:https://yorkshiredalesbushcraft.co.uk/event/wilderness-bakery-day/
LOCATION:The Camp Hill Estate Kirklington\, Bedale DL8 2LS\, The Camp Hill Estate\, DL8 2LS
ATTACH;FMTTYPE=image/jpeg:https://yorkshiredalesbushcraft.co.uk/wp-content/uploads/2022/09/Ne-website-photographs-1.jpg
ORGANIZER;CN="Yorkshire Dales Bushcraft":MAILTO:hello@yorkshiredalesbushcraft.co.uk
END:VEVENT
BEGIN:VEVENT
DTSTART;TZID=UTC:20231013T150000
DTEND;TZID=UTC:20231015T100000
DTSTAMP:20260424T155628
CREATED:20220927T061057Z
LAST-MODIFIED:20231011T181811Z
UID:4577-1697209200-1697364000@yorkshiredalesbushcraft.co.uk
SUMMARY:Our Bushcraft Weekend Course
DESCRIPTION:BOOK NOW FOR JUST A £99 Deposit – Then Nothing to pay until September 2023 \n  \n***Personalized gift vouchers are available for this experience*** \nUnwind and reconnect with mother nature – The Bushcraft weekend covers a whole range of fundamental skills in a wonderful\, relaxed environment.  We also focus on the health and wellbeing benefits of spending time in the wild too. You can choose to stay under canvas\, in a hammock or enjoy the comfort of one of our glamping pods here at Chestnut Lodge. The choice is simply yours\, and it’s all included in the price!  \n  \n**Check in from 3pm – Workshops begin at 6pm. You can also arrive after this time\, just let us know. ** \n  \nHere is what’s included. \n\n2 x nights Shared accommodation in the Lodge\nAll meals – Breakfast\, lunch and dinner\nDrinks – Tea\, coffee and soft drinks are available throughout the weekend\nSnacks – Biscuits and sweet treats\nWorkshops – Please see our list of workshops below. \nOn site – Secure parking \nShowers – With hot water!\nAccess to the sauna and hot tub\n\nA list of workshops included in your weekend. \n\nPrimitive and advanced fire making \nWilderness Baking – Breads and sweet treats \nWilderness cookery – Fish or Game\nShelter making – Advanced and primitive shelter making skills. \nWoodland crafting – Useful tools\nGuided health and wellbeing – Meditation\, forest bathing\, mind fullness \n\n  \n** Vegetarian options are available. Over 18’s only.  \nFor our international guests arriving by Air the nearest airports are – Durham Tee’s Valley Airport 31 Minutes\, Leeds Bradford airport 54 Minutes – Manchester 2 hours – Liverpool 2 hours. Transfers can be arranged for you* Additional charges will apply.  \n  \n 
URL:https://yorkshiredalesbushcraft.co.uk/event/our-bushcraft-weekend-course-2/
LOCATION:The Camp Hill Estate Kirklington\, Bedale DL8 2LS\, The Camp Hill Estate\, DL8 2LS
CATEGORIES:Adult Experience Days
ATTACH;FMTTYPE=image/jpeg:https://yorkshiredalesbushcraft.co.uk/wp-content/uploads/2022/09/Isle-of-Rum-5.jpg
ORGANIZER;CN="Yorkshire Dales Bushcraft":MAILTO:hello@yorkshiredalesbushcraft.co.uk
END:VEVENT
BEGIN:VEVENT
DTSTART;TZID=UTC:20231016T100000
DTEND;TZID=UTC:20231016T140000
DTSTAMP:20260424T155628
CREATED:20230816T141913Z
LAST-MODIFIED:20231004T085040Z
UID:5665-1697450400-1697464800@yorkshiredalesbushcraft.co.uk
SUMMARY:Forge your own Bushcraft knife - Blacksmith experience
DESCRIPTION:  \n  \n  \nJoin us at our smithy\, deep in the stunning Yorkshire Dales . \nUnder the guidance of our expert Blacksmith\, you will learn how to forge your own Bushcraft knife to take home. You are encouraged to bring your very own design to the table\, our team will be on hand to guide you every step of the way!  \nYour experience begins at 10am – Please arrive around 0930 for a welcome coffee and brief. Your experience will end around 2pm. Drinks and snacks are also included.  \n  \n***** Personalized gift voucher’s are available for all of our experiences****
URL:https://yorkshiredalesbushcraft.co.uk/event/forge-your-own-bushcraft-knife-blacksmith-experience/
LOCATION:Grassington\, Nr Skipton
ATTACH;FMTTYPE=image/jpeg:https://yorkshiredalesbushcraft.co.uk/wp-content/uploads/2023/08/Ne-website-photographs-.jpg
ORGANIZER;CN="Yorkshire Dales Bushcraft":MAILTO:hello@yorkshiredalesbushcraft.co.uk
END:VEVENT
BEGIN:VEVENT
DTSTART;TZID=UTC:20231028T093000
DTEND;TZID=UTC:20231028T180000
DTSTAMP:20260424T155628
CREATED:20231002T110528Z
LAST-MODIFIED:20231025T103632Z
UID:6025-1698485400-1698516000@yorkshiredalesbushcraft.co.uk
SUMMARY:Family Bushcraft - Halloween Special
DESCRIPTION:Sorry\, this event is now SOLD OUT. Bookings for our next family Bushcraft experience can be found here – Family Bushcraft day – Yorkshire Dales Bushcraft \n  \n  \nJoin us here in the woodland for a spooktacular family Bushcraft experience. We will have a whole range of Bushcraft workshops running\, with spooky games and strange happenings!  We have 2 sessions running on the day for you to choose from and under 5’s ticket’s cost just 0.01p!  \nWhy not upgrade and stay with us here at Camp KATUR? We have so many wonderful and quirky accommodations on offer – Take a look here Stay – Camp Kátur (campkatur.com) \n  \nWhat’s included;\n  \n\nA delicious campfire meal\nFire making\nShelter building\nCampfire bakery\nBug kitchen challenge! \nDrinks\nHot chocolate\nMarshmallows\nfree parking\n\n  \nTimings  \n\n2pm – 6pm\n\n  \nTickets are £39pp\, under 5’s 0.01p – Personalized gift vouchers are also available. 
URL:https://yorkshiredalesbushcraft.co.uk/event/family-bushcraft-halloween-special/
LOCATION:The Camp Hill Estate Kirklington\, Bedale DL8 2LS\, The Camp Hill Estate\, DL8 2LS
ATTACH;FMTTYPE=image/jpeg:https://yorkshiredalesbushcraft.co.uk/wp-content/uploads/2023/10/Family-Bushcraft-Experience-advert-5.jpg
ORGANIZER;CN="Yorkshire Dales Bushcraft":MAILTO:hello@yorkshiredalesbushcraft.co.uk
END:VEVENT
END:VCALENDAR