BEGIN:VCALENDAR
VERSION:2.0
PRODID:-//Yorkshire Dales Bushcraft - ECPv6.15.20//NONSGML v1.0//EN
CALSCALE:GREGORIAN
METHOD:PUBLISH
X-WR-CALNAME:Yorkshire Dales Bushcraft
X-ORIGINAL-URL:https://yorkshiredalesbushcraft.co.uk
X-WR-CALDESC:Events for Yorkshire Dales Bushcraft
REFRESH-INTERVAL;VALUE=DURATION:PT1H
X-Robots-Tag:noindex
X-PUBLISHED-TTL:PT1H
BEGIN:VTIMEZONE
TZID:UTC
BEGIN:STANDARD
TZOFFSETFROM:+0000
TZOFFSETTO:+0000
TZNAME:UTC
DTSTART:20220101T000000
END:STANDARD
END:VTIMEZONE
BEGIN:VEVENT
DTSTART;TZID=UTC:20230514T093000
DTEND;TZID=UTC:20230514T163000
DTSTAMP:20260424T232807
CREATED:20220923T065537Z
LAST-MODIFIED:20230317T103755Z
UID:4533-1684056600-1684081800@yorkshiredalesbushcraft.co.uk
SUMMARY:Wilderness Bakery Day
DESCRIPTION:**As seen on Channel 5’s Five on the Farm Festival** \n  \n*** Personalised gift cards available *** \n  \nJoin us around the campfire for a magical day of Campfire baking.  We start our day with a hot chocolate and a welcome brief around the campfire. Our team of instructors and wilderness chefs will be on hand throughout the day to guide you through\, so don’t worry if you’re a newbie\, everyone is welcome here at Basecamp.  Under 18’s must be accompanied by a paying adult. \n  \nHere is a rough plan for the day. \n  \n  \n1st session – Cinnamon and Apple rolls – A delicious snack all year round\, and one of my favourites.  In this session good fire management is key to success.  \n  \n  \n2nd Session – Campfire Pizza – In this session you will learn how to prepare and cook your very own pizza. A simple\, delicious classic\, a real treat on those family camping trips.  \n  \n  \n3rd Session – Afternoon cream tea – In this session you’ll be baking your very own campfire scones\, before it’s time to relax and enjoy the fruits of your labour.  Take some time to enjoy the forest and its surroundings.  \n  \n  \nSession 4 – Bake your own loaf – It’s time to get creative and really mix things up. You could bake a delicious plain loaf or add something a little more exciting to your dough. The choice is simply yours! Your delicious fresh loaf will be packaged up for you to take home and enjoy with the whole family.  \n  \n“The more knowledge you carry\, the less equipment you’ll need” 
URL:https://yorkshiredalesbushcraft.co.uk/event/bakery-day/
LOCATION:The Camp Hill Estate Kirklington\, Bedale DL8 2LS\, The Camp Hill Estate\, DL8 2LS
ATTACH;FMTTYPE=image/png:https://yorkshiredalesbushcraft.co.uk/wp-content/uploads/2021/09/Campfire-baking.png
ORGANIZER;CN="Yorkshire Dales Bushcraft":MAILTO:hello@yorkshiredalesbushcraft.co.uk
END:VEVENT
BEGIN:VEVENT
DTSTART;TZID=UTC:20230527T093000
DTEND;TZID=UTC:20230527T140000
DTSTAMP:20260424T232808
CREATED:20230421T100754Z
LAST-MODIFIED:20230503T101907Z
UID:5105-1685179800-1685196000@yorkshiredalesbushcraft.co.uk
SUMMARY:Blacksmith Experience day - Forge your own Bushcraft Knife
DESCRIPTION:Join us at our smithy\, deep in the stunning Yorkshire Dales . \nUnder the guidance of our expert Blacksmith\, you will learn how to forge your own Bushcraft knife to take home. You are encouraged to bring your very own design to the table\, our team will be on hand to guide you every step of the way!  \nYour experience begins at 10am – Please arrive around 0930 for a welcome coffee and brief. Your experience will end around 2pm. Drinks and snacks are also included. 
URL:https://yorkshiredalesbushcraft.co.uk/event/blacksmith-experience-day-forge-your-own-bushcraft-knife/
LOCATION:Grassington\, Nr Skipton
ATTACH;FMTTYPE=image/png:https://yorkshiredalesbushcraft.co.uk/wp-content/uploads/2018/08/Stargazin-Astro-photogrphy.png
ORGANIZER;CN="Yorkshire Dales Bushcraft":MAILTO:hello@yorkshiredalesbushcraft.co.uk
END:VEVENT
BEGIN:VEVENT
DTSTART;TZID=UTC:20230528T093000
DTEND;TZID=UTC:20230528T163000
DTSTAMP:20260424T232808
CREATED:20230310T163004Z
LAST-MODIFIED:20230526T115733Z
UID:4988-1685266200-1685291400@yorkshiredalesbushcraft.co.uk
SUMMARY:Wilderness Cookery day - Back O 'TH' Hill Farm - Bolton Abbey
DESCRIPTION:Join us here on the farm\, right here in the heart of the Bolton Abbey Estate. Throughout the day you’ll be guided by our team of experts and learn a variety of Wilderness cookery skills. Included in todays session will be the preparation and cookery of locally and responsibly sourced Game & fish. In the afternoon we focus on our wilderness bakery skills\, creating a whole range of delicious sweet treats to take away. \n 
URL:https://yorkshiredalesbushcraft.co.uk/event/wilderness-cookery-day/
LOCATION:Back O Th Hill Farm Storiths\, Skipton BD23 6HU ·\, Back O Th Hill Farm Storiths\, Skipton BD23 6HU ·\, BD23 6HU
ATTACH;FMTTYPE=image/jpeg:https://yorkshiredalesbushcraft.co.uk/wp-content/uploads/2023/03/Wilderness-Cookery-Welcome-pack-1.jpg
ORGANIZER;CN="Yorkshire Dales Bushcraft":MAILTO:hello@yorkshiredalesbushcraft.co.uk
END:VEVENT
BEGIN:VEVENT
DTSTART;TZID=UTC:20230530T090000
DTEND;TZID=UTC:20230530T130000
DTSTAMP:20260424T232808
CREATED:20230519T100944Z
LAST-MODIFIED:20230526T115850Z
UID:5182-1685437200-1685451600@yorkshiredalesbushcraft.co.uk
SUMMARY:Bushcraft & Survival Experience at Camp Katur
DESCRIPTION:Thank you for booking on to our Bushcraft experience. We look forward to welcoming you all around the campfire. Please head over to the Bushcraft area for 9am where your instructors will be waiting to welcome you. \n  \nThis experience is open to Camp Katur Guests only. All children must be accompanied by a paying adult.  \n  \nBe part of our next adventure!  \n 
URL:https://yorkshiredalesbushcraft.co.uk/event/camp-katur/
LOCATION:The Camp Hill Estate Kirklington\, Bedale DL8 2LS\, The Camp Hill Estate\, DL8 2LS
ATTACH;FMTTYPE=image/jpeg:https://yorkshiredalesbushcraft.co.uk/wp-content/uploads/2022/09/Isle-of-Rum-5.jpg
ORGANIZER;CN="Yorkshire Dales Bushcraft":MAILTO:hello@yorkshiredalesbushcraft.co.uk
END:VEVENT
END:VCALENDAR