BEGIN:VCALENDAR
VERSION:2.0
PRODID:-//Yorkshire Dales Bushcraft - ECPv6.15.20//NONSGML v1.0//EN
CALSCALE:GREGORIAN
METHOD:PUBLISH
X-WR-CALNAME:Yorkshire Dales Bushcraft
X-ORIGINAL-URL:https://yorkshiredalesbushcraft.co.uk
X-WR-CALDESC:Events for Yorkshire Dales Bushcraft
REFRESH-INTERVAL;VALUE=DURATION:PT1H
X-Robots-Tag:noindex
X-PUBLISHED-TTL:PT1H
BEGIN:VTIMEZONE
TZID:UTC
BEGIN:STANDARD
TZOFFSETFROM:+0000
TZOFFSETTO:+0000
TZNAME:UTC
DTSTART:20220101T000000
END:STANDARD
END:VTIMEZONE
BEGIN:VEVENT
DTSTART;TZID=UTC:20230404T090000
DTEND;TZID=UTC:20230414T150000
DTSTAMP:20260425T005107
CREATED:20230125T221659Z
LAST-MODIFIED:20230404T093511Z
UID:4736-1680598800-1681484400@yorkshiredalesbushcraft.co.uk
SUMMARY:Easter Holidays Bushcraft Club
DESCRIPTION:Basecamp Location: Burley Oaks Primary School – LS29 7EJ   Drop off time is 0900  & Pick up time is 3pm  \n  \nJoin us here at Basecamp for an action packed day in the great Outdoors. Each day is different\, with exciting survival style scenarios and Bushcraft games for all to enjoy. Come along and be part of our next adventure!  \n  \nKit list \n\nPacked lunch\nWeather appropriate clothing \nWellies or boots are advised if rain is forecast\n\n  \n All of our staff are DBS enhanced checked and cleared\, first Aid trained and follow our in house training and development program.  \n 
URL:https://yorkshiredalesbushcraft.co.uk/event/easter-holidays-bushcraft-club-2/
LOCATION:Burley Oaks Primary School\, LS29 7EJ\, Langford Ln\, Burley in Wharfedale\, Ilkley\, LS29 7EJ\, United Kingdom
ATTACH;FMTTYPE=image/jpeg:https://yorkshiredalesbushcraft.co.uk/wp-content/uploads/2023/01/Isle-of-Rum-2.jpg
ORGANIZER;CN="Yorkshire Dales Bushcraft":MAILTO:hello@yorkshiredalesbushcraft.co.uk
END:VEVENT
BEGIN:VEVENT
DTSTART;TZID=UTC:20230408T100000
DTEND;TZID=UTC:20230408T100000
DTSTAMP:20260425T005107
CREATED:20220811T121823Z
LAST-MODIFIED:20220811T121823Z
UID:4479-1680948000-1680948000@yorkshiredalesbushcraft.co.uk
SUMMARY:Blacksmith Experience - Forge your own Bushcraft Knife
DESCRIPTION:Join us at our smithy\, deep in the stunning Yorkshire Dales .\nUnder the guidance of our expert Blacksmith\, you will learn how to forge your own Bushcraft knife to take home. You are encouraged to bring your very own design to the table\, our team will be on hand to guide you every step of the way!\n \nWe have two sessions running on the day a 10am or 2pm start for your convenience. Refreshments and snacks are included. Suitable for ages 10 plus – All under 18’s MUST be accompanied by a paying adult.\n \n** For all guests purchasing this experience\, a 20% discount code will bee sent to use towards any of our Isle of Rum or weekend Bushcraft courses. **\n \nBe part of our next adventure!
URL:https://yorkshiredalesbushcraft.co.uk/event/blacksmith-experience-forge-your-own-bushcraft-knife/
LOCATION:Grassington\, Nr Skipton
CATEGORIES:Adult Experience Days
ATTACH;FMTTYPE=image/png:https://yorkshiredalesbushcraft.co.uk/wp-content/uploads/2022/08/Foraging-Wilderness-Cookery-days-1.png
ORGANIZER;CN="Yorkshire Dales Bushcraft":MAILTO:hello@yorkshiredalesbushcraft.co.uk
END:VEVENT
BEGIN:VEVENT
DTSTART;TZID=UTC:20230408T100000
DTEND;TZID=UTC:20230408T170000
DTSTAMP:20260425T005107
CREATED:20220813T093529Z
LAST-MODIFIED:20230404T172156Z
UID:4487-1680948000-1680973200@yorkshiredalesbushcraft.co.uk
SUMMARY:Blacksmith Experience - Forge your own Bushcraft Knife
DESCRIPTION:Join us at our smithy\, deep in the stunning Yorkshire Dales.\n \nUnder the guidance of our expert Blacksmith\, you will learn how to forge your own Bushcraft knife to take home. You are encouraged to bring your very own design to the table\, our team will be on hand to guide you every step of the way!\n \nWe have two sessions running on the day a 10am or 2pm start for your convenience. Refreshments and snacks are included. Suitable for ages 10 plus -All under 18’s MUST be accompanied by a paying adult.\n \n** For all guests purchasing this experience\, a 20% discount code will bee sent to use towards any of our Isle of Rum or weekend Bushcraft courses. **\n \nBe part of our next adventure!
URL:https://yorkshiredalesbushcraft.co.uk/event/blacksmith-own-bushcraft-knife-2/
LOCATION:Grassington\, Nr Skipton
CATEGORIES:Adult Experience Days
ATTACH;FMTTYPE=image/png:https://yorkshiredalesbushcraft.co.uk/wp-content/uploads/2022/08/Foraging-Wilderness-Cookery-days-1.png
ORGANIZER;CN="Yorkshire Dales Bushcraft":MAILTO:hello@yorkshiredalesbushcraft.co.uk
END:VEVENT
BEGIN:VEVENT
DTSTART;TZID=UTC:20230428T180000
DTEND;TZID=UTC:20230430T100000
DTSTAMP:20260425T005107
CREATED:20220923T113325Z
LAST-MODIFIED:20230427T090606Z
UID:4562-1682704800-1682848800@yorkshiredalesbushcraft.co.uk
SUMMARY:Our Bushcraft weekend course
DESCRIPTION:BOOK NOW FOR JUST A £99 Deposit – Then Nothing to pay until March 2023 \n  \n***Personalised gift vouchers are available for this experience*** \nA truly magical experience awaits you here at Chestnut Lodge. Set in a private corner of the Estate\, Chestnut Lodge boasts brilliant views and great facilities. With Pool table\, fire pit\, stove\, wood-fired hot tub \nUnwind and reconnect with mother nature – The Bushcraft weekend covers a whole range of fundamental skills in a wonderful\, relaxed environment.  We also focus on the health and wellbeing benefits of spending time in the wild too. You can choose to stay under canvas\, in a hammock or enjoy the comfort of one of our accommodation blocks here at Chestnut Lodge. The choice is simply yours\, and it’s all included in the price!  \n  \nHere is what’s included. \n\n2 x nights Shared accommodation in the Lodge\nAll meals – Breakfast\, lunch and dinner\nDrinks – Tea\, coffee and soft drinks are available throughout the weekend\nSnacks – Biscuits and sweet treats\nWorkshops – Please see our list of workshops below. \nOn site – Secure parking \nShowers – With hot water!\nAccess to the sauna and hot tub\n\nA list of workshops included in your weekend. \n\nPrimitive and advanced fire making \nWilderness Baking – Breads and sweet treats \nWilderness cookery – Rabbit\, Fish and Wood pigeon cookery ** Subject to seasonal availability\nShelter making – Advanced and primitive shelter making skills. \nWoodland crafting – Useful tools\n\n  \n** Vegetarian options are available. Over 18’s only.  \nFor our international guests arriving by Air the nearest airports are – Durham Tee’s Valley Airport 31 Minutes\, Leeds Bradford airport 54 Minutes – Manchester 2 hours – Liverpool 2 hours. Transfers can be arranged for you* Additional charges will apply.  \n 
URL:https://yorkshiredalesbushcraft.co.uk/event/our-bushcraft-weekend-course/
LOCATION:The Camp Hill Estate Kirklington\, Bedale DL8 2LS\, The Camp Hill Estate\, DL8 2LS
ATTACH;FMTTYPE=image/jpeg:https://yorkshiredalesbushcraft.co.uk/wp-content/uploads/2022/09/Isle-of-Rum-5.jpg
ORGANIZER;CN="Yorkshire Dales Bushcraft":MAILTO:hello@yorkshiredalesbushcraft.co.uk
END:VEVENT
END:VCALENDAR