BEGIN:VCALENDAR
VERSION:2.0
PRODID:-//Yorkshire Dales Bushcraft - ECPv6.15.20//NONSGML v1.0//EN
CALSCALE:GREGORIAN
METHOD:PUBLISH
X-ORIGINAL-URL:https://yorkshiredalesbushcraft.co.uk
X-WR-CALDESC:Events for Yorkshire Dales Bushcraft
REFRESH-INTERVAL;VALUE=DURATION:PT1H
X-Robots-Tag:noindex
X-PUBLISHED-TTL:PT1H
BEGIN:VTIMEZONE
TZID:UTC
BEGIN:STANDARD
TZOFFSETFROM:+0000
TZOFFSETTO:+0000
TZNAME:UTC
DTSTART:20210101T000000
END:STANDARD
END:VTIMEZONE
BEGIN:VEVENT
DTSTART;TZID=UTC:20220312T100000
DTEND;TZID=UTC:20220313T090000
DTSTAMP:20260425T235543
CREATED:20210816T144110Z
LAST-MODIFIED:20220126T102405Z
UID:3773-1647079200-1647162000@yorkshiredalesbushcraft.co.uk
SUMMARY:Family Bushcraft day and Overnight camp
DESCRIPTION:Join us around the campfire for an awesome family experience.  \n  \nWe arrive on Saturday morning. After your welcome brief\, you will have a chance to set up your camp. Throughout the day we will have a variety of activities running. children can also join our Wilderness rangers club in the afternoon\, as adults take some time to relax and enjoy their beautiful surroundings.  \n  \nAll meals\, activities\, camping\, and parking are included in the price.   \n  \nUnder 4’s FREE of charge. \n  \n 
URL:https://yorkshiredalesbushcraft.co.uk/event/family-bushcraft-day-and-overnight-camp/
LOCATION:Briscoe woods\, Briscoe Ridge Lane\, Harrogate\, HG3 1QY\, United Kingdom
CATEGORIES:Family Camping Experiences
ATTACH;FMTTYPE=image/png:https://yorkshiredalesbushcraft.co.uk/wp-content/uploads/2021/04/Untitled-design.png
ORGANIZER;CN="Yorkshire Dales Bushcraft":MAILTO:hello@yorkshiredalesbushcraft.co.uk
END:VEVENT
BEGIN:VEVENT
DTSTART;TZID=UTC:20220319T093000
DTEND;TZID=UTC:20220319T163000
DTSTAMP:20260425T235543
CREATED:20210920T133016Z
LAST-MODIFIED:20220317T190427Z
UID:3805-1647682200-1647707400@yorkshiredalesbushcraft.co.uk
SUMMARY:Wilderness bakery skills
DESCRIPTION:19th March (Sold Out)  \nAs previously seen at the 5 on the FARM FESTIVAL.  \nAfter a coffee and welcome brief\, we begin our day with a guided walk around the woodland delving deep in to mother natures larder. \nCampfire Bakery – This is one of our favourite ways to gather around the campfire! and who can resist a sweet\, homemade treat! Today\, we will focus on a variety of sweet recipes\, delving deep back in history\, and using some primitive recipes.  In the first session\, you will learn how to bake delicious scones in the Dutch oven\, carefully managing the fire to give us that perfect result. A delicious lunch\, with a twist\, will be served by your host chef. Before we move on to the afternoon session.  \nIn the afternoon session\, we will look at a variety of bread recipes. Some dating back thousands of years. Each recipe has been carefully selected to show you a variety of Wilderness Cookery methods.  \n  \n** Lunch\, snacks\, and tea and coffee included. ** \n  \n” The more knowledge you carry\, the less equipment you’ll need”  \n 
URL:https://yorkshiredalesbushcraft.co.uk/event/wilderness-bakery-skills/
LOCATION:Briscoe woods\, Briscoe Ridge Lane\, Harrogate\, HG3 1QY\, United Kingdom
CATEGORIES:Adult Experience Days
ATTACH;FMTTYPE=image/png:https://yorkshiredalesbushcraft.co.uk/wp-content/uploads/2021/09/Campfire-baking.png
ORGANIZER;CN="Yorkshire Dales Bushcraft":MAILTO:hello@yorkshiredalesbushcraft.co.uk
END:VEVENT
END:VCALENDAR