BEGIN:VCALENDAR
VERSION:2.0
PRODID:-//Yorkshire Dales Bushcraft - ECPv6.15.20//NONSGML v1.0//EN
CALSCALE:GREGORIAN
METHOD:PUBLISH
X-WR-CALNAME:Yorkshire Dales Bushcraft
X-ORIGINAL-URL:https://yorkshiredalesbushcraft.co.uk
X-WR-CALDESC:Events for Yorkshire Dales Bushcraft
REFRESH-INTERVAL;VALUE=DURATION:PT1H
X-Robots-Tag:noindex
X-PUBLISHED-TTL:PT1H
BEGIN:VTIMEZONE
TZID:UTC
BEGIN:STANDARD
TZOFFSETFROM:+0000
TZOFFSETTO:+0000
TZNAME:UTC
DTSTART:20240101T000000
END:STANDARD
END:VTIMEZONE
BEGIN:VEVENT
DTSTART;VALUE=DATE:20250420
DTEND;VALUE=DATE:20250421
DTSTAMP:20260423T111412
CREATED:20250417T092529Z
LAST-MODIFIED:20250417T092910Z
UID:7548-1745107200-1745193599@yorkshiredalesbushcraft.co.uk
SUMMARY:The Ultimate Bushcraft & Survival Challenge!
DESCRIPTION:The Ultimate Bushcraft & Survival Challenge! \nStep Into the Wild… and Put Your Survival Skills to the Ultimate Test! \nAre YOU ready to thrive—not just survive—in the great outdoors?\nGather your crew and head into the wilderness for an unforgettable experience of hands-on survival training\, family fun\, and thrilling challenges. This isn’t just a workshop—it’s a full-blown Bushcraft & Survival Challenge\, and it’s time to see what you’re made of! \nChallenge Zones – Are You Tough Enough? \n️ Shelter-Building Showdown\nCould you survive a night in the wild? Learn how to build a natural shelter\, then test your teamwork to create a rainforest-style hideout in our epic shelter-building challenge! \nWater Filtration Challenge – Nature’s Way!\nThink you can turn muddy water into something clean enough to drink (well… almost)? In this survival showdown\, you’ll learn how to use only what Mother Nature provides to filter water in the wild. \nFire-Making Face-Off\nHarness the ancient art of fire-lighting using traditional flint and steel. Who will be the first to spark a flame like our Stone Age ancestors? \nCampfire Cooking Quest\nRoll up your sleeves and cook over open flames! Make and bake your own chocolate damper bread from scratch\, then enjoy it warm by the fire! \nBushtucker Challenge\nThink you’ve got guts? Take on the ultimate taste test with our edible bug buffet. Only the brave need apply! \nSession Times \nChoose your wild adventure slot: \n10:00am – 11:30am\n12:00pm – 1:30pm\n2:00pm – 3:30pm \nWhat’s Included \n✅ All 4 interactive challenge zones\n✅ Free parking\n✅ Campfire treat: chocolate damper bread\n✅ Dietary needs? No problem—just let us know in advance! \nIMPORTANT: Please dress for the weather and wear sturdy footwear—terrain may be uneven. \nRules of the Wild (T&Cs)\nAll participants—adults and children—must have a valid ticket.\nChildren must be accompanied by an adult with a valid ticket.\nTickets must be purchased directly through Yorkshire Dales Bushcraft. \n 
URL:https://yorkshiredalesbushcraft.co.uk/event/the-ultimate-bushcraftchallenge/
LOCATION:Kilnsey Park\, Kilnsey\, Skipton BD23 5PS\, Kilnsey Park\, Skipton\, BD23 5PS
ATTACH;FMTTYPE=image/png:https://yorkshiredalesbushcraft.co.uk/wp-content/uploads/2025/03/Untitled-design-4.png
ORGANIZER;CN="Yorkshire Dales Bushcraft":MAILTO:hello@yorkshiredalesbushcraft.co.uk
END:VEVENT
BEGIN:VEVENT
DTSTART;TZID=UTC:20250420T100000
DTEND;TZID=UTC:20250420T163000
DTSTAMP:20260423T111412
CREATED:20250324T135605Z
LAST-MODIFIED:20250419T162210Z
UID:7459-1745143200-1745166600@yorkshiredalesbushcraft.co.uk
SUMMARY:Salves & Balms: A Medicinal Foraging Experience
DESCRIPTION:Step into the world of medicinal foraging and discover the incredible healing plants our ancestors once relied on for health and well-being. This immersive course takes you deep into nature\, exploring the powerful remedies hidden in the wild. \nYour journey begins with a woodland tea ceremony\, where you’ll enjoy a soothing brew made from freshly foraged ingredients. This mindful ritual sets the tone for the day\, helping you connect with the natural world around you. \nIn the morning\, you’ll embark on a guided foraging walk led by one of our expert instructors. As we explore the landscape\, we’ll identify a diverse range of edible and medicinal plants\, learning about their traditional uses and benefits. \nReturning to camp\, we’ll gather around the fire to bake rustic bush breads\, accompanied by fresh pesto made from our wild harvest. This is a moment to relax\, share stories\, and savor the flavors of the land. \nThe afternoon is all about hands-on herbal crafting. You’ll learn the art of making natural salves and balms\, blending wild ingredients into soothing remedies that you can take home. \nBy the end of the day\, you’ll leave not only with new skills and handmade botanical treasures but also with a deeper appreciation for nature’s incredible pharmacy. \n 
URL:https://yorkshiredalesbushcraft.co.uk/event/salves-balms/
LOCATION:Kilnsey Park\, Kilnsey\, Skipton BD23 5PS\, Kilnsey Park\, Skipton\, BD23 5PS
ATTACH;FMTTYPE=image/png:https://yorkshiredalesbushcraft.co.uk/wp-content/uploads/2025/03/Untitled-design-33.png
ORGANIZER;CN="Yorkshire Dales Bushcraft":MAILTO:hello@yorkshiredalesbushcraft.co.uk
END:VEVENT
END:VCALENDAR