BEGIN:VCALENDAR
VERSION:2.0
PRODID:-//Yorkshire Dales Bushcraft - ECPv6.15.20//NONSGML v1.0//EN
CALSCALE:GREGORIAN
METHOD:PUBLISH
X-WR-CALNAME:Yorkshire Dales Bushcraft
X-ORIGINAL-URL:https://yorkshiredalesbushcraft.co.uk
X-WR-CALDESC:Events for Yorkshire Dales Bushcraft
REFRESH-INTERVAL;VALUE=DURATION:PT1H
X-Robots-Tag:noindex
X-PUBLISHED-TTL:PT1H
BEGIN:VTIMEZONE
TZID:UTC
BEGIN:STANDARD
TZOFFSETFROM:+0000
TZOFFSETTO:+0000
TZNAME:UTC
DTSTART:20230101T000000
END:STANDARD
END:VTIMEZONE
BEGIN:VEVENT
DTSTART;TZID=UTC:20240804T100000
DTEND;TZID=UTC:20240804T150000
DTSTAMP:20260424T005822
CREATED:20230524T091409Z
LAST-MODIFIED:20240731T132141Z
UID:5245-1722765600-1722783600@yorkshiredalesbushcraft.co.uk
SUMMARY:Family Bushcraft day
DESCRIPTION:Join us here at the majestic Camp Katur for an exciting Bushcraft Experience. Learn how to survive and thrive using basic primitive skills! Your Bushcraft session includes the following workshops; \n  \n\nShelter making competition – Using only natural materials! \nFire making – Can you get the fire going using only primitive tools? \nCampfire bakery – Learn how to bake delicious treats on the campfire! \nBush tucker kitchen! – Enjoy a delicious selection of edible bugs! \n\n  \nWhat’s included? \n  \n\nAll of the above workshops\nA delicious campfire lunch * *Vegetarian options available too. \nFree Parking\nDrinks and marshmallows for toasting! \n\n  \nJust £39 per person.  Tickets include all activities and lunch – All attendee’s must have a valid ticket to present at reception. UNDER 5’S join for just 0.01p\n  \nWe have a whole range of awesome accommodation on offer here at Camp Katur. Why not stay a little while longer with us. Booking Page – Camp Kátur (campkatur.com) \n  \n 
URL:https://yorkshiredalesbushcraft.co.uk/event/family-bushcraft-day-3/
LOCATION:The Camp Hill Estate Kirklington\, Bedale DL8 2LS\, The Camp Hill Estate\, DL8 2LS
ATTACH;FMTTYPE=image/jpeg:https://yorkshiredalesbushcraft.co.uk/wp-content/uploads/2023/05/Family-day-pic-1.jpg
ORGANIZER;CN="Yorkshire Dales Bushcraft":MAILTO:hello@yorkshiredalesbushcraft.co.uk
END:VEVENT
END:VCALENDAR