BEGIN:VCALENDAR
VERSION:2.0
PRODID:-//Yorkshire Dales Bushcraft - ECPv6.15.20//NONSGML v1.0//EN
CALSCALE:GREGORIAN
METHOD:PUBLISH
X-WR-CALNAME:Yorkshire Dales Bushcraft
X-ORIGINAL-URL:https://yorkshiredalesbushcraft.co.uk
X-WR-CALDESC:Events for Yorkshire Dales Bushcraft
REFRESH-INTERVAL;VALUE=DURATION:PT1H
X-Robots-Tag:noindex
X-PUBLISHED-TTL:PT1H
BEGIN:VTIMEZONE
TZID:UTC
BEGIN:STANDARD
TZOFFSETFROM:+0000
TZOFFSETTO:+0000
TZNAME:UTC
DTSTART:20230101T000000
END:STANDARD
END:VTIMEZONE
BEGIN:VEVENT
DTSTART;TZID=UTC:20240721T093000
DTEND;TZID=UTC:20240721T163000
DTSTAMP:20260424T004838
CREATED:20230524T090617Z
LAST-MODIFIED:20240327T110036Z
UID:5240-1721554200-1721579400@yorkshiredalesbushcraft.co.uk
SUMMARY:Bushcraft essential skills day
DESCRIPTION:***Personalized gift vouchers are available*** \n  \n \n  \nJoin us here at basecamp for a day of Bushcraft\, learning and practicing a variety of necessary skills to help you survive and thrive in the wild.  A hands on day\, delivered by our team of Bushcraft experts.  \n  \n  \n  \n\nShelter making – Primitive and tarps. \nFire making skills – Primitive and advanced methods\nWater purification \nBasic introduction to foraging skills – Edible and medicinal\nWilderness cookery skills – Preparation of Game.\nKnife and axe skills \nKnots and lines\n\n  \nWhat’s included; \n  \nAll workshops\nLunch\nSnacks\nDrinks\nFree parking\nDiscounts on our future events \nAge: 18 plus \n  \n 
URL:https://yorkshiredalesbushcraft.co.uk/event/bushcraft-essential-skills-day-2/
LOCATION:The Camp Hill Estate Kirklington\, Bedale DL8 2LS\, The Camp Hill Estate\, DL8 2LS
ATTACH;FMTTYPE=image/jpeg:https://yorkshiredalesbushcraft.co.uk/wp-content/uploads/2023/05/81.jpg
ORGANIZER;CN="Yorkshire Dales Bushcraft":MAILTO:hello@yorkshiredalesbushcraft.co.uk
END:VEVENT
END:VCALENDAR