BEGIN:VCALENDAR
VERSION:2.0
PRODID:-//Yorkshire Dales Bushcraft - ECPv6.15.20//NONSGML v1.0//EN
CALSCALE:GREGORIAN
METHOD:PUBLISH
X-ORIGINAL-URL:https://yorkshiredalesbushcraft.co.uk
X-WR-CALDESC:Events for Yorkshire Dales Bushcraft
REFRESH-INTERVAL;VALUE=DURATION:PT1H
X-Robots-Tag:noindex
X-PUBLISHED-TTL:PT1H
BEGIN:VTIMEZONE
TZID:UTC
BEGIN:STANDARD
TZOFFSETFROM:+0000
TZOFFSETTO:+0000
TZNAME:UTC
DTSTART:20230101T000000
END:STANDARD
END:VTIMEZONE
BEGIN:VEVENT
DTSTART;TZID=UTC:20240406T100000
DTEND;TZID=UTC:20240406T160000
DTSTAMP:20260424T052347
CREATED:20230925T112513Z
LAST-MODIFIED:20240327T105228Z
UID:5990-1712397600-1712419200@yorkshiredalesbushcraft.co.uk
SUMMARY:Seasonal foraging and Wilderness cookery experience
DESCRIPTION: \n \n \nTickets are now on SALE\n \nAs the first signs of spring begin to emerge\, the estate comes to life once again. You’ll start you day with a guided foraging walk on the look out for ingredients for to accompany your campfire lunch. Throughout today you will learn how to prepare and cook fish and feathered game\, as you create a delicious 2 course lunch to enjoy\, all carefully cooked on the campfire.\n \n \n \n \n\n 
URL:https://yorkshiredalesbushcraft.co.uk/event/seasonal-foraging-cookery/
LOCATION:The Camp Hill Estate Kirklington\, Bedale DL8 2LS\, The Camp Hill Estate\, DL8 2LS
CATEGORIES:Adult Experience Days
ATTACH;FMTTYPE=image/jpeg:https://yorkshiredalesbushcraft.co.uk/wp-content/uploads/2023/05/31.jpg
ORGANIZER;CN="Yorkshire Dales Bushcraft":MAILTO:hello@yorkshiredalesbushcraft.co.uk
END:VEVENT
END:VCALENDAR