BEGIN:VCALENDAR
VERSION:2.0
PRODID:-//Yorkshire Dales Bushcraft - ECPv6.15.20//NONSGML v1.0//EN
CALSCALE:GREGORIAN
METHOD:PUBLISH
X-ORIGINAL-URL:https://yorkshiredalesbushcraft.co.uk
X-WR-CALDESC:Events for Yorkshire Dales Bushcraft
REFRESH-INTERVAL;VALUE=DURATION:PT1H
X-Robots-Tag:noindex
X-PUBLISHED-TTL:PT1H
BEGIN:VTIMEZONE
TZID:UTC
BEGIN:STANDARD
TZOFFSETFROM:+0000
TZOFFSETTO:+0000
TZNAME:UTC
DTSTART:20220101T000000
END:STANDARD
END:VTIMEZONE
BEGIN:VEVENT
DTSTART;TZID=UTC:20231118T100000
DTEND;TZID=UTC:20231118T163000
DTSTAMP:20260424T155629
CREATED:20230908T105411Z
LAST-MODIFIED:20231115T203953Z
UID:5830-1700301600-1700325000@yorkshiredalesbushcraft.co.uk
SUMMARY:Festive wilderness bakery experience day
DESCRIPTION:  \nJoin us in our wilderness Kitchen for a hands on day of wilderness bakery. Our team of experts will guide you through the preparation and cookery of a whole range of delicious seasonal treats\, all delicately cooked over the hot coals of the campfire. You will learn how to manage the prefect cookery fire for the best results.  \nLunch and drinks are all included. They’ll also be plenty of treats to take home and share with the family.  \n  \nPersonalized gift vouchers are also available for all of our experiences.
URL:https://yorkshiredalesbushcraft.co.uk/event/festive-wilderness-bakery-experience-day-2/
LOCATION:The Camp Hill Estate Kirklington\, Bedale DL8 2LS\, The Camp Hill Estate\, DL8 2LS
ATTACH;FMTTYPE=image/jpeg:https://yorkshiredalesbushcraft.co.uk/wp-content/uploads/2023/09/61-1.jpg
ORGANIZER;CN="Yorkshire Dales Bushcraft":MAILTO:hello@yorkshiredalesbushcraft.co.uk
END:VEVENT
END:VCALENDAR