BEGIN:VCALENDAR
VERSION:2.0
PRODID:-//Yorkshire Dales Bushcraft - ECPv6.15.20//NONSGML v1.0//EN
CALSCALE:GREGORIAN
METHOD:PUBLISH
X-WR-CALNAME:Yorkshire Dales Bushcraft
X-ORIGINAL-URL:https://yorkshiredalesbushcraft.co.uk
X-WR-CALDESC:Events for Yorkshire Dales Bushcraft
REFRESH-INTERVAL;VALUE=DURATION:PT1H
X-Robots-Tag:noindex
X-PUBLISHED-TTL:PT1H
BEGIN:VTIMEZONE
TZID:UTC
BEGIN:STANDARD
TZOFFSETFROM:+0000
TZOFFSETTO:+0000
TZNAME:UTC
DTSTART:20220101T000000
END:STANDARD
END:VTIMEZONE
BEGIN:VEVENT
DTSTART;TZID=UTC:20231104T100000
DTEND;TZID=UTC:20231104T170000
DTSTAMP:20260424T153048
CREATED:20230524T093242Z
LAST-MODIFIED:20231025T142100Z
UID:5250-1699092000-1699117200@yorkshiredalesbushcraft.co.uk
SUMMARY:Bushcraft essentials day
DESCRIPTION:***Personalized gift vouchers are available*** \n  \nJoin us here at basecamp for a day of Bushcraft\, learning and practicing a variety of necessary skills to help you survive and thrive in the wild.  A hands on day\, delivered by our team of Bushcraft experts.  \n  \n  \n  \n\nShelter making – Primitive and tarps. \nFire making skills – Primitive and advanced methods\nWater purification \nBasic introduction to foraging skills – Edible and medicinal\nWilderness cookery skills – Preparation of Game.\nKnife and axe skills \nKnots and lines\n\n  \nWhat’s included; \n  \nAll workshops\nLunch\nSnacks\nDrinks\nFree parking \nAge: 18 plus \n  \nWhat is Bushcraft?  \nBushcraft refers to a set of skills and knowledge that enable individuals to thrive and survive in the wilderness using minimal tools and resources. It encompasses various techniques and practices derived from traditional indigenous knowledge and outdoor skills. The term “bushcraft” is often associated with outdoor enthusiasts\, adventurers\, and survivalists who enjoy spending time in nature and rely on their skills to live comfortably in remote locations. \nBushcraft typically involves learning how to use natural resources efficiently\, such as building shelters\, starting fires\, purifying water\, finding and preparing food\, and navigating through the wilderness. These skills emphasize self-reliance and an understanding of the natural environment. \n 
URL:https://yorkshiredalesbushcraft.co.uk/event/bushcraft-essentials-day/
LOCATION:The Camp Hill Estate Kirklington\, Bedale DL8 2LS\, The Camp Hill Estate\, DL8 2LS
ATTACH;FMTTYPE=image/jpeg:https://yorkshiredalesbushcraft.co.uk/wp-content/uploads/2023/05/81.jpg
ORGANIZER;CN="Yorkshire Dales Bushcraft":MAILTO:hello@yorkshiredalesbushcraft.co.uk
END:VEVENT
END:VCALENDAR