BEGIN:VCALENDAR
VERSION:2.0
PRODID:-//Yorkshire Dales Bushcraft - ECPv6.15.20//NONSGML v1.0//EN
CALSCALE:GREGORIAN
METHOD:PUBLISH
X-ORIGINAL-URL:https://yorkshiredalesbushcraft.co.uk
X-WR-CALDESC:Events for Yorkshire Dales Bushcraft
REFRESH-INTERVAL;VALUE=DURATION:PT1H
X-Robots-Tag:noindex
X-PUBLISHED-TTL:PT1H
BEGIN:VTIMEZONE
TZID:UTC
BEGIN:STANDARD
TZOFFSETFROM:+0000
TZOFFSETTO:+0000
TZNAME:UTC
DTSTART:20220101T000000
END:STANDARD
END:VTIMEZONE
BEGIN:VEVENT
DTSTART;TZID=UTC:20231013T150000
DTEND;TZID=UTC:20231015T100000
DTSTAMP:20260424T172136
CREATED:20220927T061057Z
LAST-MODIFIED:20231011T181811Z
UID:4577-1697209200-1697364000@yorkshiredalesbushcraft.co.uk
SUMMARY:Our Bushcraft Weekend Course
DESCRIPTION:BOOK NOW FOR JUST A £99 Deposit – Then Nothing to pay until September 2023 \n  \n***Personalized gift vouchers are available for this experience*** \nUnwind and reconnect with mother nature – The Bushcraft weekend covers a whole range of fundamental skills in a wonderful\, relaxed environment.  We also focus on the health and wellbeing benefits of spending time in the wild too. You can choose to stay under canvas\, in a hammock or enjoy the comfort of one of our glamping pods here at Chestnut Lodge. The choice is simply yours\, and it’s all included in the price!  \n  \n**Check in from 3pm – Workshops begin at 6pm. You can also arrive after this time\, just let us know. ** \n  \nHere is what’s included. \n\n2 x nights Shared accommodation in the Lodge\nAll meals – Breakfast\, lunch and dinner\nDrinks – Tea\, coffee and soft drinks are available throughout the weekend\nSnacks – Biscuits and sweet treats\nWorkshops – Please see our list of workshops below. \nOn site – Secure parking \nShowers – With hot water!\nAccess to the sauna and hot tub\n\nA list of workshops included in your weekend. \n\nPrimitive and advanced fire making \nWilderness Baking – Breads and sweet treats \nWilderness cookery – Fish or Game\nShelter making – Advanced and primitive shelter making skills. \nWoodland crafting – Useful tools\nGuided health and wellbeing – Meditation\, forest bathing\, mind fullness \n\n  \n** Vegetarian options are available. Over 18’s only.  \nFor our international guests arriving by Air the nearest airports are – Durham Tee’s Valley Airport 31 Minutes\, Leeds Bradford airport 54 Minutes – Manchester 2 hours – Liverpool 2 hours. Transfers can be arranged for you* Additional charges will apply.  \n  \n 
URL:https://yorkshiredalesbushcraft.co.uk/event/our-bushcraft-weekend-course-2/
LOCATION:The Camp Hill Estate Kirklington\, Bedale DL8 2LS\, The Camp Hill Estate\, DL8 2LS
CATEGORIES:Adult Experience Days
ATTACH;FMTTYPE=image/jpeg:https://yorkshiredalesbushcraft.co.uk/wp-content/uploads/2022/09/Isle-of-Rum-5.jpg
ORGANIZER;CN="Yorkshire Dales Bushcraft":MAILTO:hello@yorkshiredalesbushcraft.co.uk
END:VEVENT
END:VCALENDAR