BEGIN:VCALENDAR
VERSION:2.0
PRODID:-//Yorkshire Dales Bushcraft - ECPv6.15.20//NONSGML v1.0//EN
CALSCALE:GREGORIAN
METHOD:PUBLISH
X-ORIGINAL-URL:https://yorkshiredalesbushcraft.co.uk
X-WR-CALDESC:Events for Yorkshire Dales Bushcraft
REFRESH-INTERVAL;VALUE=DURATION:PT1H
X-Robots-Tag:noindex
X-PUBLISHED-TTL:PT1H
BEGIN:VTIMEZONE
TZID:UTC
BEGIN:STANDARD
TZOFFSETFROM:+0000
TZOFFSETTO:+0000
TZNAME:UTC
DTSTART:20220101T000000
END:STANDARD
END:VTIMEZONE
BEGIN:VEVENT
DTSTART;TZID=UTC:20230923T093000
DTEND;TZID=UTC:20230923T180000
DTSTAMP:20260424T184525
CREATED:20230519T121600Z
LAST-MODIFIED:20230922T083221Z
UID:5186-1695461400-1695492000@yorkshiredalesbushcraft.co.uk
SUMMARY:Family Bushcraft Experience
DESCRIPTION:SORRY – WE ARE NOW FULLY BOOKED – OUR NEXT 2024 DATE IS AVAILABLE HERE  https://yorkshiredalesbushcraft.co.uk/event/family-bushcraft-day-2/ \n  \n  \nJoin us here at the majestic Camp Katur for a fantastic day out\, learning how to survive and thrive in the Wilderness. Our experienced instructors will be on hand to deliver an exciting hands on experience for all ages. Learn how to make shelter and fire using ancient techniques\, cook on the campfire and so much more.  \n  \nWe have 2 session running on the day – Session (1) 0930 – 130pm &  Session (2) 2pm – 6pm. Please choose your preferred session below in the ticketing system.  \n  \nYour Bushcraft day includes the following workshops; \n  \n\nShelter making competition – Using only natural materials! \nFire making – Can you get the fire going using only primitive tools? \nCampfire bakery – Learn how to bake delicious treats on the campfire! \nBush tucker kitchen! – Enjoy a delicious selection of edible bugs! \n\n  \nWhat’s included?  \n\nAll of the above workshops\nA delicious lunch/dinner  *Vegetarian options available too. \nFree Parking\nDrinks and marshmallows. \n\n  \nJust £39 per person. Including all workshops\, lunch and drinks.  – All attendee’s must have a valid ticket to present at reception on arrival. Under 5’s tickets just 0.01p!  \n  \n  \n  \nBe part of our next adventure!  Why not book an overnight stay here at Camp Katur too? We have over 30 accommodation options right here on site. Booking Page – Camp Kátur (campkatur.com)
URL:https://yorkshiredalesbushcraft.co.uk/event/family-bushcraft-day/
LOCATION:The Camp Hill Estate Kirklington\, Bedale DL8 2LS\, The Camp Hill Estate\, DL8 2LS
CATEGORIES:Family Camping Experiences
ATTACH;FMTTYPE=image/jpeg:https://yorkshiredalesbushcraft.co.uk/wp-content/uploads/2023/05/Family-Bushcraft-Experience-advert-4.jpg
ORGANIZER;CN="Yorkshire Dales Bushcraft":MAILTO:hello@yorkshiredalesbushcraft.co.uk
END:VEVENT
END:VCALENDAR