BEGIN:VCALENDAR
VERSION:2.0
PRODID:-//Yorkshire Dales Bushcraft - ECPv6.15.20//NONSGML v1.0//EN
CALSCALE:GREGORIAN
METHOD:PUBLISH
X-ORIGINAL-URL:https://yorkshiredalesbushcraft.co.uk
X-WR-CALDESC:Events for Yorkshire Dales Bushcraft
REFRESH-INTERVAL;VALUE=DURATION:PT1H
X-Robots-Tag:noindex
X-PUBLISHED-TTL:PT1H
BEGIN:VTIMEZONE
TZID:UTC
BEGIN:STANDARD
TZOFFSETFROM:+0000
TZOFFSETTO:+0000
TZNAME:UTC
DTSTART:20220101T000000
END:STANDARD
END:VTIMEZONE
BEGIN:VEVENT
DTSTART;TZID=UTC:20230623T120000
DTEND;TZID=UTC:20230626T170000
DTSTAMP:20260424T220425
CREATED:20220405T171902Z
LAST-MODIFIED:20230516T091338Z
UID:4306-1687521600-1687798800@yorkshiredalesbushcraft.co.uk
SUMMARY:Isle of Rum 2023 Expedition
DESCRIPTION:***A £99 Deposit secures your place today*** \nJoin our 2023 Coastal Survival Expedition on one of the most beautiful islands in the world. No experience necessary. This weekend is not a test of endurance\, it’s an opportunity for everyone to learn\, and practice essential coastal survival techniques. Rum is renowned for its sheer beauty and diverse collection of wildlife. From its resident Deer population to soaring eagles and the majestic Whales and sharks who roam the seas around this little Gem of an island. The Island is steeped in history and on our expedition we will see some of the oldest human settlements in Scotland.  \n  \nOur first 2 nights are spent under canvas (camping) along the shores of the Sea loch\, in the heart of the village.  On Sunday evening we are staying in the Rum bunk house\, with all the wonderful luxury’s you’d expect from a modern Bunkhouse.  \n  \nTimings for the weekend  \nWe meet in Mallaig for 11:00hrs on Friday. Our ship departs at 12:15pm. We arrive back on to the mainland on Monday at 650pm.  \n  \nOur experienced team will help you settle in to your new surrounding and will be on hand throughout the weekend to guide you through. Throughout the weekend we will cover the following workshops; \n\nShelter making\nCoastal foraging \nWilderness cookery skills \nFreshwater and seawater fishing Skills \nCampfire bakery \nFire making skills \nGuided Wildlife and foraging walks \nKnots\, knife skills and water purification\nMap reading skills\nHealth and well-being workshops\nNatural product making workshops\nGuided meditation and mindfulness\n\n  \nWe will immerse ourselves into the wilderness\, forage for our meals\, catch fish and crabs and learn how to live self sufficiently on the shores of the island. This weekend is open to absolute beginners.  \n 
URL:https://yorkshiredalesbushcraft.co.uk/event/isle-of-rum-2023-expedition/
LOCATION:Island of Rum\, Isle of Rum\, PH43 4RR\, United Kingdom
ATTACH;FMTTYPE=image/jpeg:https://yorkshiredalesbushcraft.co.uk/wp-content/uploads/2022/04/Isle-of-Rum-8.jpg
ORGANIZER;CN="Yorkshire Dales Bushcraft":MAILTO:hello@yorkshiredalesbushcraft.co.uk
END:VEVENT
END:VCALENDAR