BEGIN:VCALENDAR
VERSION:2.0
PRODID:-//Yorkshire Dales Bushcraft - ECPv6.15.20//NONSGML v1.0//EN
CALSCALE:GREGORIAN
METHOD:PUBLISH
X-ORIGINAL-URL:https://yorkshiredalesbushcraft.co.uk
X-WR-CALDESC:Events for Yorkshire Dales Bushcraft
REFRESH-INTERVAL;VALUE=DURATION:PT1H
X-Robots-Tag:noindex
X-PUBLISHED-TTL:PT1H
BEGIN:VTIMEZONE
TZID:UTC
BEGIN:STANDARD
TZOFFSETFROM:+0000
TZOFFSETTO:+0000
TZNAME:UTC
DTSTART:20220101T000000
END:STANDARD
END:VTIMEZONE
BEGIN:VEVENT
DTSTART;TZID=UTC:20230618T093000
DTEND;TZID=UTC:20230618T180000
DTSTAMP:20260424T232836
CREATED:20230104T103144Z
LAST-MODIFIED:20230515T073218Z
UID:4687-1687080600-1687111200@yorkshiredalesbushcraft.co.uk
SUMMARY:Family Bushcraft Experience
DESCRIPTION:Join us here at the majestic Camp Katur for an exciting Bushcraft Experience. Learn how to survive and thrive using basic primitive skills! Your Bushcraft session includes the following workshops; \n  \n\nShelter making competition – Using only natural materials! \nFire making – Can you get the fire going using only primitive tools? \nCampfire bakery – Learn how to bake delicious treats on the campfire! \nBush tucker kitchen! – Enjoy a delicious selection of edible bugs! \n\n  \nWhat’s included?  \n  \n\nAll of the above workshops\nLunch/ Dinner * *Vegetarian options available too. \nFree Parking\nDrinks and marshmallows for toasting! \n\n  \nWe have 2 sessions running on the day. You can choose Either 0930am – 130pm or 2pm – 6pm. Under 5’s go free. \nJust £29 per person – All attendee’s must have a valid ticket to present at reception.  \nBe part of our next adventure!  Why not book an overnight stay here at Camp Katur too? Please get in touch for more details. 
URL:https://yorkshiredalesbushcraft.co.uk/event/family-bushcraft-experience/
LOCATION:The Camp Hill Estate Kirklington\, Bedale DL8 2LS\, The Camp Hill Estate\, DL8 2LS
ATTACH;FMTTYPE=image/png:https://yorkshiredalesbushcraft.co.uk/wp-content/uploads/2023/01/Family-Bushcraft-Experience.png
ORGANIZER;CN="Yorkshire Dales Bushcraft":MAILTO:hello@yorkshiredalesbushcraft.co.uk
END:VEVENT
END:VCALENDAR