BEGIN:VCALENDAR
VERSION:2.0
PRODID:-//Yorkshire Dales Bushcraft - ECPv6.15.20//NONSGML v1.0//EN
CALSCALE:GREGORIAN
METHOD:PUBLISH
X-ORIGINAL-URL:https://yorkshiredalesbushcraft.co.uk
X-WR-CALDESC:Events for Yorkshire Dales Bushcraft
REFRESH-INTERVAL;VALUE=DURATION:PT1H
X-Robots-Tag:noindex
X-PUBLISHED-TTL:PT1H
BEGIN:VTIMEZONE
TZID:UTC
BEGIN:STANDARD
TZOFFSETFROM:+0000
TZOFFSETTO:+0000
TZNAME:UTC
DTSTART:20210101T000000
END:STANDARD
END:VTIMEZONE
BEGIN:VEVENT
DTSTART;TZID=UTC:20221014T100000
DTEND;TZID=UTC:20221014T150000
DTSTAMP:20260425T141142
CREATED:20220811T115531Z
LAST-MODIFIED:20221013T071901Z
UID:4470-1665741600-1665759600@yorkshiredalesbushcraft.co.uk
SUMMARY:Blacksmith Experience day - Forge your own Bushcraft Knife
DESCRIPTION:FULLY BOOKED – Please see our calendar for our 2023 dates.  \n  \nJoin us at our smithy\, deep in the stunning Yorkshire Dales . \nUnder the guidance of our expert Blacksmith\, you will learn how to forge your own Bushcraft knife to take home. You are encouraged to bring your very own design to the table\, our team will be on hand to guide you every step of the way!  \n  \nWe have two sessions running on the day a 10am or 2pm start for your convenience. Refreshments and snacks are included. Suitable for ages 10 plus – All under 18’s MUST be accompanied by a paying adult.  \n** For all guests purchasing this experience\, a 20% discount code will bee sent to use towards any of our Isle of Rum or weekend Bushcraft courses. ** \nBe part of our next adventure! 
URL:https://yorkshiredalesbushcraft.co.uk/event/blacksmith-day/
LOCATION:Grassington\, Nr Skipton
CATEGORIES:Adult Experience Days
ATTACH;FMTTYPE=image/png:https://yorkshiredalesbushcraft.co.uk/wp-content/uploads/2022/08/Foraging-Wilderness-Cookery-days-1.png
ORGANIZER;CN="Yorkshire Dales Bushcraft":MAILTO:hello@yorkshiredalesbushcraft.co.uk
END:VEVENT
END:VCALENDAR